{"text_format":"2","workbook":"xlsx","n_sheets":10,"sheets":["Boys Reg","Boys Ind. High Game","Boys Ind. High Series","Boys Totals","Girls Reg","Girls Ind. High Game","Girls Ind. High Series","Girls Totals","New Recap","Recap"],"not_rendered":{"charts":0,"images":0,"macros":0,"external_links":0,"defined_names":0,"comments":0,"pivot_tables":0},"unopened":[],"bounds":{"document_bytes":16777216,"sheet_cells":100000,"run_cost":"one","rows_first":2000,"rows_last":500,"rows_between":2000,"halvings":0,"cell_chars":16384,"cell_head_chars":4096},"cells_cut":0,"cells_raw":0,"read":"whole","date_system":"1900"}

{"sheet":"Boys Reg","index":0,"n_rows":91,"n_cols":10,"rows_kept":91,"cut":false,"hidden":false,"merged":[]}
["Team","School/Bowlers","Game 1","Game 2","Game 3","Team","School/Bowlers","Game 1","Game 2","Game 3"]
[1.0,"SJV",null,null,null,2.0,"Ocean"]
[null,"Chris Moran",113.0,123.0,null,null,"Jack Henry",202.0,157.0,176.0]
[null,"Matt Bruchez",116.0,128.0,151.0,null,"Chris Munoz",190.0,126.0,147.0]
[null,"George Anderson",167.0,158.0,128.0,null,"Michael DeGilio",207.0,184.0,221.0]
[null,"Zach Schiavone",162.0,115.0,183.0,null,"Robbie Hughes",254.0,185.0,152.0]
[null,"John Vitali",147.0,192.0,202.0,null,"Jason Norris",151.0,168.0,131.0]
[null,"Conor O'Grady",null,null,76.0,null,"Kevin Reyes"]
[{"$nulls":6},"Nicholas Foy"]
[]
[null,"Total",{"$f":"SUM(C2:C10)","v":705},716,740,null,"Total",{"$f":"SUM(H2:H10)","v":1004},820,827]
[3.0,"Keansburg",null,null,null,4.0,"Bayonne"]
[null,"Joe Sautner",197.0,103.0,116.0,null,"Efrain Gonzalez",107.0,156.0,167.0]
[null,"Dominick Grasso",128.0,126.0,110.0,null,"Joe Novielli",154.0,168.0,142.0]
[null,"Kyle Scott",104.0,137.0,169.0,null,"Jamarion Wright",151.0,216.0,179.0]
[null,"Brian Laskiewicz",124.0,169.0,120.0,null,"Jake Peregrin",158.0,169.0,143.0]
[null,"Chris DeSantis",187.0,151.0,208.0,null,"Matt Nilan",182.0,204.0,183.0]
[]
[]
[]
[null,"Total",{"$f":"SUM(C12:C20)","v":740},686,723,null,"Total",{"$f":"SUM(H12:H20)","v":752},913,814]
[5.0,"Matawan",null,null,null,6.0,"Henry Hudson"]
[null,"Logan Grillo",144.0,128.0,173.0,null,"Ralph D'Antonio",154.0,123.0,180.0]
[null,"Matt Lalor",111.0,null,95.0,null,"Jason Rockafellow",110.0,158.0]
[null,"Ethan Liranzo",84.0,null,null,null,"Chris Saunders",89.0]
[null,"Lucan DiGregorio",193.0,146.0,160.0,null,"Jack Loiacono",158.0,179.0,175.0]
[null,"Aaron Reingold",190.0,163.0,212.0,null,"Billy Miller",119.0,137.0,169.0]
[null,"Noah Ali",null,105.0,70.0,null,"Nick Brown",null,138.0,135.0]
[null,"James Orleman",null,100.0,null,null,"Matt Crossan",null,null,124.0]
[]
[null,"Total",{"$f":"SUM(C22:C30)","v":722},642,710,null,"Total",{"$f":"SUM(H22:H30)","v":630},735,783]
[7.0,"Keyport",null,null,null,8.0,"Roselle"]
[null,"Michael Graham",85.0,88.0,78.0,null,"ZiAyre Chevailer",124.0,113.0,102.0]
[null,"Christian Oldhafer",116.0,95.0,78.0,null,"Hector Rosa",152.0,108.0,133.0]
[null,"Resse Mehan",118.0,119.0,148.0,null,"Austin Torres",156.0,211.0,218.0]
[null,"Josh Vazquez",111.0,122.0,109.0,null,"Elizjah Boone",163.0,267.0,202.0]
[null,"Jacen Shores",102.0,137.0,133.0,null,"Luis Torres",193.0,172.0,217.0]
[null,"Hunter Yale",{"$nulls":4},"James Luna Vazquez"]
[null,"Jake Staeger "]
[null,"Nick Royle"]
[null,"Total",{"$f":"SUM(C32:C40)","v":532},561,546,null,"Total",{"$f":"SUM(H32:H40)","v":788},871,872]
[9.0,"Mater Dei",null,null,null,10.0,"Lakewood"]
[null,"Alphonse Vota",77.0,116.0,120.0,null,"Daniel Sanchez",113.0,152.0,102.0]
[null,"Paris Merse",95.0,113.0,123.0,null,"Marro Rojas",85.0,null,93.0]
[null,"Hanna Hale",156.0,135.0,129.0,null,"Kevin Cosme",111.0,75.0]
[null,"Chris Pfirrman",98.0,107.0,111.0,null,"Edgar Perez",115.0,131.0,109.0]
[null,"Joey Stanton",95.0,125.0,101.0,null,"William Mosan",161.0,151.0,172.0]
[{"$nulls":6},"Charles Kopcho",null,112.0,89.0]
[{"$nulls":6},"Sergio Vargas"]
[{"$nulls":6},"Carlos Palafox"]
[null,"Total",{"$f":"SUM(C42:C50)","v":521},596,584,null,"Total",{"$f":"SUM(H42:H50)","v":585},621,565]
[11.0,"Team 11",null,null,null,12.0,"Team 12"]
{"$rows_empty":8}
[null,"Total",{"$f":"SUM(C52:C60)","v":0},0,0,null,"Total",{"$f":"SUM(H52:H60)","v":0},0,0]
[13.0,"Team 13",null,null,null,14.0,"Team 14"]
{"$rows_empty":8}
[null,"Total",{"$f":"SUM(C62:C70)","v":0},0,0,null,"Total",{"$f":"SUM(H62:H70)","v":0},0,0]
[15.0,"Team 15",null,null,null,16.0,"Team 16"]
{"$rows_empty":8}
[null,"Total",{"$f":"SUM(C72:C80)","v":0},0,0,null,"Total",{"$f":"SUM(H72:H80)","v":0},0,0]
[17.0,"Team 17",null,null,null,18.0,"Team 18"]
{"$rows_empty":8}
[null,"Total",{"$f":"SUM(C83:C90)","v":0},0,0,null,"Total",{"$f":"SUM(H83:H90)","v":0},0,0]

{"sheet":"Boys Ind. High Game","index":1,"n_rows":145,"n_cols":7,"rows_kept":145,"cut":false,"hidden":false,"merged":[]}
["Name","School","Game 1","Game 2","Game 3","Series","High Game"]
[{"$f":"'Boys Reg'!G36","v":"Elizjah Boone"},{"$f":"'Boys Reg'!$G$32","v":"Roselle"},{"$f":"'Boys Reg'!H36","v":163},{"$f":"'Boys Reg'!I36","v":267},{"$f":"'Boys Reg'!J36","v":202},{"$f":"SUM(C2:E2)","v":632},{"$f":"MAX(C2:E2)","v":267}]
[{"$f":"'Boys Reg'!G6","v":"Robbie Hughes"},{"$f":"'Boys Reg'!$G$2","v":"Ocean"},{"$f":"'Boys Reg'!H6","v":254},{"$f":"'Boys Reg'!I6","v":185},{"$f":"'Boys Reg'!J6","v":152},591,254]
[{"$f":"'Boys Reg'!G5","v":"Michael DeGilio"},{"$f":"'Boys Reg'!$G$2","v":"Ocean"},{"$f":"'Boys Reg'!H5","v":207},{"$f":"'Boys Reg'!I5","v":184},{"$f":"'Boys Reg'!J5","v":221},612,221]
[{"$f":"'Boys Reg'!G35","v":"Austin Torres"},{"$f":"'Boys Reg'!$G$32","v":"Roselle"},{"$f":"'Boys Reg'!H35","v":156},{"$f":"'Boys Reg'!I35","v":211},{"$f":"'Boys Reg'!J35","v":218},585,218]
[{"$f":"'Boys Reg'!G37","v":"Luis Torres"},{"$f":"'Boys Reg'!$G$32","v":"Roselle"},{"$f":"'Boys Reg'!H37","v":193},{"$f":"'Boys Reg'!I37","v":172},{"$f":"'Boys Reg'!J37","v":217},582,217]
[{"$f":"'Boys Reg'!G15","v":"Jamarion Wright"},{"$f":"'Boys Reg'!$G$12","v":"Bayonne"},{"$f":"'Boys Reg'!H15","v":151},{"$f":"'Boys Reg'!I15","v":216},{"$f":"'Boys Reg'!J15","v":179},546,216]
[{"$f":"'Boys Reg'!B27","v":"Aaron Reingold"},{"$f":"'Boys Reg'!$B$22","v":"Matawan"},{"$f":"'Boys Reg'!C27","v":190},{"$f":"'Boys Reg'!D27","v":163},{"$f":"'Boys Reg'!E27","v":212},565,212]
[{"$f":"'Boys Reg'!B17","v":"Chris DeSantis"},{"$f":"'Boys Reg'!$B$12","v":"Keansburg"},{"$f":"'Boys Reg'!C17","v":187},{"$f":"'Boys Reg'!D17","v":151},{"$f":"'Boys Reg'!E17","v":208},546,208]
[{"$f":"'Boys Reg'!G17","v":"Matt Nilan"},{"$f":"'Boys Reg'!$G$12","v":"Bayonne"},{"$f":"'Boys Reg'!H17","v":182},{"$f":"'Boys Reg'!I17","v":204},{"$f":"'Boys Reg'!J17","v":183},569,204]
[{"$f":"'Boys Reg'!G3","v":"Jack Henry"},{"$f":"'Boys Reg'!$G$2","v":"Ocean"},{"$f":"'Boys Reg'!H3","v":202},{"$f":"'Boys Reg'!I3","v":157},{"$f":"'Boys Reg'!J3","v":176},535,202]
[{"$f":"'Boys Reg'!B7","v":"John Vitali"},{"$f":"'Boys Reg'!$B$2","v":"SJV"},{"$f":"'Boys Reg'!C7","v":147},{"$f":"'Boys Reg'!D7","v":192},{"$f":"'Boys Reg'!E7","v":202},541,202]
[{"$f":"'Boys Reg'!B13","v":"Joe Sautner"},{"$f":"'Boys Reg'!$B$12","v":"Keansburg"},{"$f":"'Boys Reg'!C13","v":197},{"$f":"'Boys Reg'!D13","v":103},{"$f":"'Boys Reg'!E13","v":116},416,197]
[{"$f":"'Boys Reg'!B26","v":"Lucan DiGregorio"},{"$f":"'Boys Reg'!$B$22","v":"Matawan"},{"$f":"'Boys Reg'!C26","v":193},{"$f":"'Boys Reg'!D26","v":146},{"$f":"'Boys Reg'!E26","v":160},499,193]
[{"$f":"'Boys Reg'!G4","v":"Chris Munoz"},{"$f":"'Boys Reg'!$G$2","v":"Ocean"},{"$f":"'Boys Reg'!H4","v":190},{"$f":"'Boys Reg'!I4","v":126},{"$f":"'Boys Reg'!J4","v":147},463,190]
[{"$f":"'Boys Reg'!B6","v":"Zach Schiavone"},{"$f":"'Boys Reg'!$B$2","v":"SJV"},{"$f":"'Boys Reg'!C6","v":162},{"$f":"'Boys Reg'!D6","v":115},{"$f":"'Boys Reg'!E6","v":183},460,183]
[{"$f":"'Boys Reg'!G23","v":"Ralph D'Antonio"},{"$f":"'Boys Reg'!$G$22","v":"Henry Hudson"},{"$f":"'Boys Reg'!H23","v":154},{"$f":"'Boys Reg'!I23","v":123},{"$f":"'Boys Reg'!J23","v":180},457,180]
[{"$f":"'Boys Reg'!G26","v":"Jack Loiacono"},{"$f":"'Boys Reg'!$G$22","v":"Henry Hudson"},{"$f":"'Boys Reg'!H26","v":158},{"$f":"'Boys Reg'!I26","v":179},{"$f":"'Boys Reg'!J26","v":175},512,179]
[{"$f":"'Boys Reg'!B23","v":"Logan Grillo"},{"$f":"'Boys Reg'!$B$22","v":"Matawan"},{"$f":"'Boys Reg'!C23","v":144},{"$f":"'Boys Reg'!D23","v":128},{"$f":"'Boys Reg'!E23","v":173},445,173]
[{"$f":"'Boys Reg'!G47","v":"William Mosan"},{"$f":"'Boys Reg'!$G$42","v":"Lakewood"},{"$f":"'Boys Reg'!H47","v":161},{"$f":"'Boys Reg'!I47","v":151},{"$f":"'Boys Reg'!J47","v":172},484,172]
[{"$f":"'Boys Reg'!G16","v":"Jake Peregrin"},{"$f":"'Boys Reg'!$G$12","v":"Bayonne"},{"$f":"'Boys Reg'!H16","v":158},{"$f":"'Boys Reg'!I16","v":169},{"$f":"'Boys Reg'!J16","v":143},470,169]
[{"$f":"'Boys Reg'!B16","v":"Brian Laskiewicz"},{"$f":"'Boys Reg'!$B$12","v":"Keansburg"},{"$f":"'Boys Reg'!C16","v":124},{"$f":"'Boys Reg'!D16","v":169},{"$f":"'Boys Reg'!E16","v":120},413,169]
[{"$f":"'Boys Reg'!B15","v":"Kyle Scott"},{"$f":"'Boys Reg'!$B$12","v":"Keansburg"},{"$f":"'Boys Reg'!C15","v":104},{"$f":"'Boys Reg'!D15","v":137},{"$f":"'Boys Reg'!E15","v":169},410,169]
[{"$f":"'Boys Reg'!G27","v":"Billy Miller"},{"$f":"'Boys Reg'!$G$22","v":"Henry Hudson"},{"$f":"'Boys Reg'!H27","v":119},{"$f":"'Boys Reg'!I27","v":137},{"$f":"'Boys Reg'!J27","v":169},425,169]
[{"$f":"'Boys Reg'!G14","v":"Joe Novielli"},{"$f":"'Boys Reg'!$G$12","v":"Bayonne"},{"$f":"'Boys Reg'!H14","v":154},{"$f":"'Boys Reg'!I14","v":168},{"$f":"'Boys Reg'!J14","v":142},464,168]
[{"$f":"'Boys Reg'!G7","v":"Jason Norris"},{"$f":"'Boys Reg'!$G$2","v":"Ocean"},{"$f":"'Boys Reg'!H7","v":151},{"$f":"'Boys Reg'!I7","v":168},{"$f":"'Boys Reg'!J7","v":131},450,168]
[{"$f":"'Boys Reg'!B5","v":"George Anderson"},{"$f":"'Boys Reg'!$B$2","v":"SJV"},{"$f":"'Boys Reg'!C5","v":167},{"$f":"'Boys Reg'!D5","v":158},{"$f":"'Boys Reg'!E5","v":128},453,167]
[{"$f":"'Boys Reg'!G13","v":"Efrain Gonzalez"},{"$f":"'Boys Reg'!$G$12","v":"Bayonne"},{"$f":"'Boys Reg'!H13","v":107},{"$f":"'Boys Reg'!I13","v":156},{"$f":"'Boys Reg'!J13","v":167},430,167]
[{"$f":"'Boys Reg'!G24","v":"Jason Rockafellow"},{"$f":"'Boys Reg'!$G$22","v":"Henry Hudson"},{"$f":"'Boys Reg'!H24","v":110},{"$f":"'Boys Reg'!I24","v":158},{"$f":"'Boys Reg'!J24","v":""},268,158]
[{"$f":"'Boys Reg'!B45","v":"Hanna Hale"},{"$f":"'Boys Reg'!$B$42","v":"Mater Dei"},{"$f":"'Boys Reg'!C45","v":156},{"$f":"'Boys Reg'!D45","v":135},{"$f":"'Boys Reg'!E45","v":129},420,156]
[{"$f":"'Boys Reg'!G34","v":"Hector Rosa"},{"$f":"'Boys Reg'!$G$32","v":"Roselle"},{"$f":"'Boys Reg'!H34","v":152},{"$f":"'Boys Reg'!I34","v":108},{"$f":"'Boys Reg'!J34","v":133},393,152]
[{"$f":"'Boys Reg'!G43","v":"Daniel Sanchez"},{"$f":"'Boys Reg'!$G$42","v":"Lakewood"},{"$f":"'Boys Reg'!H43","v":113},{"$f":"'Boys Reg'!I43","v":152},{"$f":"'Boys Reg'!J43","v":102},367,152]
[{"$f":"'Boys Reg'!B4","v":"Matt Bruchez"},{"$f":"'Boys Reg'!$B$2","v":"SJV"},{"$f":"'Boys Reg'!C4","v":116},{"$f":"'Boys Reg'!D4","v":128},{"$f":"'Boys Reg'!E4","v":151},395,151]
[{"$f":"'Boys Reg'!B35","v":"Resse Mehan"},{"$f":"'Boys Reg'!$B$32","v":"Keyport"},{"$f":"'Boys Reg'!C35","v":118},{"$f":"'Boys Reg'!D35","v":119},{"$f":"'Boys Reg'!E35","v":148},385,148]
[{"$f":"'Boys Reg'!G28","v":"Nick Brown"},{"$f":"'Boys Reg'!$G$22","v":"Henry Hudson"},{"$f":"'Boys Reg'!H28","v":""},{"$f":"'Boys Reg'!I28","v":138},{"$f":"'Boys Reg'!J28","v":135},273,138]
[{"$f":"'Boys Reg'!B37","v":"Jacen Shores"},{"$f":"'Boys Reg'!$B$32","v":"Keyport"},{"$f":"'Boys Reg'!C37","v":102},{"$f":"'Boys Reg'!D37","v":137},{"$f":"'Boys Reg'!E37","v":133},372,137]
[{"$f":"'Boys Reg'!G46","v":"Edgar Perez"},{"$f":"'Boys Reg'!$G$42","v":"Lakewood"},{"$f":"'Boys Reg'!H46","v":115},{"$f":"'Boys Reg'!I46","v":131},{"$f":"'Boys Reg'!J46","v":109},355,131]
[{"$f":"'Boys Reg'!B14","v":"Dominick Grasso"},{"$f":"'Boys Reg'!$B$12","v":"Keansburg"},{"$f":"'Boys Reg'!C14","v":128},{"$f":"'Boys Reg'!D14","v":126},{"$f":"'Boys Reg'!E14","v":110},364,128]
[{"$f":"'Boys Reg'!B47","v":"Joey Stanton"},{"$f":"'Boys Reg'!$B$42","v":"Mater Dei"},{"$f":"'Boys Reg'!C47","v":95},{"$f":"'Boys Reg'!D47","v":125},{"$f":"'Boys Reg'!E47","v":101},321,125]
[{"$f":"'Boys Reg'!G33","v":"ZiAyre Chevailer"},{"$f":"'Boys Reg'!$G$32","v":"Roselle"},{"$f":"'Boys Reg'!H33","v":124},{"$f":"'Boys Reg'!I33","v":113},{"$f":"'Boys Reg'!J33","v":102},339,124]
[{"$f":"'Boys Reg'!G29","v":"Matt Crossan"},{"$f":"'Boys Reg'!$G$22","v":"Henry Hudson"},{"$f":"'Boys Reg'!H29","v":""},{"$f":"'Boys Reg'!I29","v":""},{"$f":"'Boys Reg'!J29","v":124},124,124]
[{"$f":"'Boys Reg'!B3","v":"Chris Moran"},{"$f":"'Boys Reg'!$B$2","v":"SJV"},{"$f":"'Boys Reg'!C3","v":113},{"$f":"'Boys Reg'!D3","v":123},{"$f":"'Boys Reg'!E3","v":""},236,123]
[{"$f":"'Boys Reg'!B44","v":"Paris Merse"},{"$f":"'Boys Reg'!$B$42","v":"Mater Dei"},{"$f":"'Boys Reg'!C44","v":95},{"$f":"'Boys Reg'!D44","v":113},{"$f":"'Boys Reg'!E44","v":123},331,123]
[{"$f":"'Boys Reg'!B36","v":"Josh Vazquez"},{"$f":"'Boys Reg'!$B$32","v":"Keyport"},{"$f":"'Boys Reg'!C36","v":111},{"$f":"'Boys Reg'!D36","v":122},{"$f":"'Boys Reg'!E36","v":109},342,122]
[{"$f":"'Boys Reg'!B43","v":"Alphonse Vota"},{"$f":"'Boys Reg'!$B$42","v":"Mater Dei"},{"$f":"'Boys Reg'!C43","v":77},{"$f":"'Boys Reg'!D43","v":116},{"$f":"'Boys Reg'!E43","v":120},313,120]
[{"$f":"'Boys Reg'!B34","v":"Christian Oldhafer"},{"$f":"'Boys Reg'!$B$32","v":"Keyport"},{"$f":"'Boys Reg'!C34","v":116},{"$f":"'Boys Reg'!D34","v":95},{"$f":"'Boys Reg'!E34","v":78},289,116]
[{"$f":"'Boys Reg'!G48","v":"Charles Kopcho"},{"$f":"'Boys Reg'!$G$42","v":"Lakewood"},{"$f":"'Boys Reg'!H48","v":""},{"$f":"'Boys Reg'!I48","v":112},{"$f":"'Boys Reg'!J48","v":89},201,112]
[{"$f":"'Boys Reg'!G45","v":"Kevin Cosme"},{"$f":"'Boys Reg'!$G$42","v":"Lakewood"},{"$f":"'Boys Reg'!H45","v":111},{"$f":"'Boys Reg'!I45","v":75},{"$f":"'Boys Reg'!J45","v":""},186,111]
[{"$f":"'Boys Reg'!B24","v":"Matt Lalor"},{"$f":"'Boys Reg'!$B$22","v":"Matawan"},{"$f":"'Boys Reg'!C24","v":111},{"$f":"'Boys Reg'!D24","v":""},{"$f":"'Boys Reg'!E24","v":95},206,111]
[{"$f":"'Boys Reg'!B46","v":"Chris Pfirrman"},{"$f":"'Boys Reg'!$B$42","v":"Mater Dei"},{"$f":"'Boys Reg'!C46","v":98},{"$f":"'Boys Reg'!D46","v":107},{"$f":"'Boys Reg'!E46","v":111},316,111]
[{"$f":"'Boys Reg'!B28","v":"Noah Ali"},{"$f":"'Boys Reg'!$B$22","v":"Matawan"},{"$f":"'Boys Reg'!C28","v":""},{"$f":"'Boys Reg'!D28","v":105},{"$f":"'Boys Reg'!E28","v":70},175,105]
[{"$f":"'Boys Reg'!B29","v":"James Orleman"},{"$f":"'Boys Reg'!$B$22","v":"Matawan"},{"$f":"'Boys Reg'!C29","v":""},{"$f":"'Boys Reg'!D29","v":100},{"$f":"'Boys Reg'!E29","v":""},100,100]
[{"$f":"'Boys Reg'!G44","v":"Marro Rojas"},{"$f":"'Boys Reg'!$G$42","v":"Lakewood"},{"$f":"'Boys Reg'!H44","v":85},{"$f":"'Boys Reg'!I44","v":""},{"$f":"'Boys Reg'!J44","v":93},178,93]
[{"$f":"'Boys Reg'!G25","v":"Chris Saunders"},{"$f":"'Boys Reg'!$G$22","v":"Henry Hudson"},{"$f":"'Boys Reg'!H25","v":89},{"$f":"'Boys Reg'!I25","v":""},{"$f":"'Boys Reg'!J25","v":""},89,89]
[{"$f":"'Boys Reg'!B33","v":"Michael Graham"},{"$f":"'Boys Reg'!$B$32","v":"Keyport"},{"$f":"'Boys Reg'!C33","v":85},{"$f":"'Boys Reg'!D33","v":88},{"$f":"'Boys Reg'!E33","v":78},251,88]
[{"$f":"'Boys Reg'!B25","v":"Ethan Liranzo"},{"$f":"'Boys Reg'!$B$22","v":"Matawan"},{"$f":"'Boys Reg'!C25","v":84},{"$f":"'Boys Reg'!D25","v":""},{"$f":"'Boys Reg'!E25","v":""},84,84]
[{"$f":"'Boys Reg'!B8","v":"Conor O'Grady"},{"$f":"'Boys Reg'!$B$2","v":"SJV"},{"$f":"'Boys Reg'!C8","v":""},{"$f":"'Boys Reg'!D8","v":""},{"$f":"'Boys Reg'!E8","v":76},76,76]
[{"$f":"'Boys Reg'!B57","v":""},{"$f":"'Boys Reg'!$B$52","v":"Team 11"},{"$f":"'Boys Reg'!C57","v":""},{"$f":"'Boys Reg'!D57","v":""},{"$f":"'Boys Reg'!E57","v":""},0,0]
[{"$f":"'Boys Reg'!B67","v":""},{"$f":"'Boys Reg'!$B$62","v":"Team 13"},{"$f":"'Boys Reg'!C67","v":""},{"$f":"'Boys Reg'!D67","v":""},{"$f":"'Boys Reg'!E67","v":""},0,0]
[{"$f":"'Boys Reg'!B63","v":""},{"$f":"'Boys Reg'!$B$62","v":"Team 13"},{"$f":"'Boys Reg'!C63","v":""},{"$f":"'Boys Reg'!D63","v":""},{"$f":"'Boys Reg'!E63","v":""},0,0]
[{"$f":"'Boys Reg'!B65","v":""},{"$f":"'Boys Reg'!$B$62","v":"Team 13"},{"$f":"'Boys Reg'!C65","v":""},{"$f":"'Boys Reg'!D65","v":""},{"$f":"'Boys Reg'!E65","v":""},0,0]
[{"$f":"'Boys Reg'!B55","v":""},{"$f":"'Boys Reg'!$B$52","v":"Team 11"},{"$f":"'Boys Reg'!C55","v":""},{"$f":"'Boys Reg'!D55","v":""},{"$f":"'Boys Reg'!E55","v":""},0,0]
[{"$f":"'Boys Reg'!B66","v":""},{"$f":"'Boys Reg'!$B$62","v":"Team 13"},{"$f":"'Boys Reg'!C66","v":""},{"$f":"'Boys Reg'!D66","v":""},{"$f":"'Boys Reg'!E66","v":""},0,0]
[{"$f":"'Boys Reg'!B56","v":""},{"$f":"'Boys Reg'!$B$52","v":"Team 11"},{"$f":"'Boys Reg'!C56","v":""},{"$f":"'Boys Reg'!D56","v":""},{"$f":"'Boys Reg'!E56","v":""},0,0]
[{"$f":"'Boys Reg'!B64","v":""},{"$f":"'Boys Reg'!$B$62","v":"Team 13"},{"$f":"'Boys Reg'!C64","v":""},{"$f":"'Boys Reg'!D64","v":""},{"$f":"'Boys Reg'!E64","v":""},0,0]
[{"$f":"'Boys Reg'!G57","v":""},{"$f":"'Boys Reg'!$G$52","v":"Team 12"},{"$f":"'Boys Reg'!H57","v":""},{"$f":"'Boys Reg'!I57","v":""},{"$f":"'Boys Reg'!J57","v":""},0,0]
[{"$f":"'Boys Reg'!B9","v":""},{"$f":"'Boys Reg'!$B$2","v":"SJV"},{"$f":"'Boys Reg'!C9","v":""},{"$f":"'Boys Reg'!D9","v":""},{"$f":"'Boys Reg'!E9","v":""},0,0]
[{"$f":"'Boys Reg'!G56","v":""},{"$f":"'Boys Reg'!$G$52","v":"Team 12"},{"$f":"'Boys Reg'!H56","v":""},{"$f":"'Boys Reg'!I56","v":""},{"$f":"'Boys Reg'!J56","v":""},0,0]
[{"$f":"'Boys Reg'!B54","v":""},{"$f":"'Boys Reg'!$B$52","v":"Team 11"},{"$f":"'Boys Reg'!C54","v":""},{"$f":"'Boys Reg'!D54","v":""},{"$f":"'Boys Reg'!E54","v":""},0,0]
[{"$f":"'Boys Reg'!G53","v":""},{"$f":"'Boys Reg'!$G$52","v":"Team 12"},{"$f":"'Boys Reg'!H53","v":""},{"$f":"'Boys Reg'!I53","v":""},{"$f":"'Boys Reg'!J53","v":""},0,0]
[{"$f":"'Boys Reg'!G55","v":""},{"$f":"'Boys Reg'!$G$52","v":"Team 12"},{"$f":"'Boys Reg'!H55","v":""},{"$f":"'Boys Reg'!I55","v":""},{"$f":"'Boys Reg'!J55","v":""},0,0]
[{"$f":"'Boys Reg'!B53","v":""},{"$f":"'Boys Reg'!$B$52","v":"Team 11"},{"$f":"'Boys Reg'!C53","v":""},{"$f":"'Boys Reg'!D53","v":""},{"$f":"'Boys Reg'!E53","v":""},0,0]
[{"$f":"'Boys Reg'!G19","v":""},{"$f":"'Boys Reg'!$G$12","v":"Bayonne"},{"$f":"'Boys Reg'!H19","v":""},{"$f":"'Boys Reg'!I19","v":""},{"$f":"'Boys Reg'!J19","v":""},0,0]
[{"$f":"'Boys Reg'!G18","v":""},{"$f":"'Boys Reg'!$G$12","v":"Bayonne"},{"$f":"'Boys Reg'!H18","v":""},{"$f":"'Boys Reg'!I18","v":""},{"$f":"'Boys Reg'!J18","v":""},0,0]
[{"$f":"'Boys Reg'!B68","v":""},{"$f":"'Boys Reg'!$B$62","v":"Team 13"},{"$f":"'Boys Reg'!C68","v":""},{"$f":"'Boys Reg'!D68","v":""},{"$f":"'Boys Reg'!E68","v":""},0,0]
[{"$f":"'Boys Reg'!B69","v":""},{"$f":"'Boys Reg'!$B$62","v":"Team 13"},{"$f":"'Boys Reg'!C69","v":""},{"$f":"'Boys Reg'!D69","v":""},{"$f":"'Boys Reg'!E69","v":""},0,0]
[{"$f":"'Boys Reg'!B70","v":""},{"$f":"'Boys Reg'!$B$62","v":"Team 13"},{"$f":"'Boys Reg'!C70","v":""},{"$f":"'Boys Reg'!D70","v":""},{"$f":"'Boys Reg'!E70","v":""},0,0]
[{"$f":"'Boys Reg'!G54","v":""},{"$f":"'Boys Reg'!$G$52","v":"Team 12"},{"$f":"'Boys Reg'!H54","v":""},{"$f":"'Boys Reg'!I54","v":""},{"$f":"'Boys Reg'!J54","v":""},0,0]
[{"$f":"'Boys Reg'!G58","v":""},{"$f":"'Boys Reg'!$G$52","v":"Team 12"},{"$f":"'Boys Reg'!H58","v":""},{"$f":"'Boys Reg'!I58","v":""},{"$f":"'Boys Reg'!J58","v":""},0,0]
[{"$f":"'Boys Reg'!G59","v":""},{"$f":"'Boys Reg'!$G$52","v":"Team 12"},{"$f":"'Boys Reg'!H59","v":""},{"$f":"'Boys Reg'!I59","v":""},{"$f":"'Boys Reg'!J59","v":""},0,0]
[{"$f":"'Boys Reg'!G60","v":""},{"$f":"'Boys Reg'!$G$52","v":"Team 12"},{"$f":"'Boys Reg'!H60","v":""},{"$f":"'Boys Reg'!I60","v":""},{"$f":"'Boys Reg'!J60","v":""},0,0]
[{"$f":"'Boys Reg'!G49","v":"Sergio Vargas"},{"$f":"'Boys Reg'!$G$42","v":"Lakewood"},{"$f":"'Boys Reg'!H49","v":""},{"$f":"'Boys Reg'!I49","v":""},{"$f":"'Boys Reg'!J49","v":""},0,0]
[{"$f":"'Boys Reg'!G50","v":"Carlos Palafox"},{"$f":"'Boys Reg'!$G$42","v":"Lakewood"},{"$f":"'Boys Reg'!H50","v":""},{"$f":"'Boys Reg'!I50","v":""},{"$f":"'Boys Reg'!J50","v":""},0,0]
[{"$f":"'Boys Reg'!B48","v":""},{"$f":"'Boys Reg'!$B$42","v":"Mater Dei"},{"$f":"'Boys Reg'!C48","v":""},{"$f":"'Boys Reg'!D48","v":""},{"$f":"'Boys Reg'!E48","v":""},0,0]
[{"$f":"'Boys Reg'!B49","v":""},{"$f":"'Boys Reg'!$B$42","v":"Mater Dei"},{"$f":"'Boys Reg'!C49","v":""},{"$f":"'Boys Reg'!D49","v":""},{"$f":"'Boys Reg'!E49","v":""},0,0]
[{"$f":"'Boys Reg'!B50","v":""},{"$f":"'Boys Reg'!$B$42","v":"Mater Dei"},{"$f":"'Boys Reg'!C50","v":""},{"$f":"'Boys Reg'!D50","v":""},{"$f":"'Boys Reg'!E50","v":""},0,0]
[{"$f":"'Boys Reg'!G38","v":"James Luna Vazquez"},{"$f":"'Boys Reg'!$G$32","v":"Roselle"},{"$f":"'Boys Reg'!H38","v":""},{"$f":"'Boys Reg'!I38","v":""},{"$f":"'Boys Reg'!J38","v":""},0,0]
[{"$f":"'Boys Reg'!G39","v":""},{"$f":"'Boys Reg'!$G$32","v":"Roselle"},{"$f":"'Boys Reg'!H39","v":""},{"$f":"'Boys Reg'!I39","v":""},{"$f":"'Boys Reg'!J39","v":""},0,0]
[{"$f":"'Boys Reg'!G40","v":""},{"$f":"'Boys Reg'!$G$32","v":"Roselle"},{"$f":"'Boys Reg'!H40","v":""},{"$f":"'Boys Reg'!I40","v":""},{"$f":"'Boys Reg'!J40","v":""},0,0]
[{"$f":"'Boys Reg'!B38","v":"Hunter Yale"},{"$f":"'Boys Reg'!$B$32","v":"Keyport"},{"$f":"'Boys Reg'!C38","v":""},{"$f":"'Boys Reg'!D38","v":""},{"$f":"'Boys Reg'!E38","v":""},0,0]
[{"$f":"'Boys Reg'!B39","v":"Jake Staeger "},{"$f":"'Boys Reg'!$B$32","v":"Keyport"},{"$f":"'Boys Reg'!C39","v":""},{"$f":"'Boys Reg'!D39","v":""},{"$f":"'Boys Reg'!E39","v":""},0,0]
[{"$f":"'Boys Reg'!B40","v":"Nick Royle"},{"$f":"'Boys Reg'!$B$32","v":"Keyport"},{"$f":"'Boys Reg'!C40","v":""},{"$f":"'Boys Reg'!D40","v":""},{"$f":"'Boys Reg'!E40","v":""},0,0]
[{"$f":"'Boys Reg'!G30","v":""},{"$f":"'Boys Reg'!$G$22","v":"Henry Hudson"},{"$f":"'Boys Reg'!H30","v":""},{"$f":"'Boys Reg'!I30","v":""},{"$f":"'Boys Reg'!J30","v":""},0,0]
[{"$f":"'Boys Reg'!B30","v":""},{"$f":"'Boys Reg'!$B$22","v":"Matawan"},{"$f":"'Boys Reg'!C30","v":""},{"$f":"'Boys Reg'!D30","v":""},{"$f":"'Boys Reg'!E30","v":""},0,0]
[{"$f":"'Boys Reg'!G20","v":""},{"$f":"'Boys Reg'!$G$12","v":"Bayonne"},{"$f":"'Boys Reg'!H20","v":""},{"$f":"'Boys Reg'!I20","v":""},{"$f":"'Boys Reg'!J20","v":""},0,0]
[{"$f":"'Boys Reg'!B18","v":""},{"$f":"'Boys Reg'!$B$12","v":"Keansburg"},{"$f":"'Boys Reg'!C18","v":""},{"$f":"'Boys Reg'!D18","v":""},{"$f":"'Boys Reg'!E18","v":""},0,0]
[{"$f":"'Boys Reg'!B19","v":""},{"$f":"'Boys Reg'!$B$12","v":"Keansburg"},{"$f":"'Boys Reg'!C19","v":""},{"$f":"'Boys Reg'!D19","v":""},{"$f":"'Boys Reg'!E19","v":""},0,0]
[{"$f":"'Boys Reg'!B20","v":""},{"$f":"'Boys Reg'!$B$12","v":"Keansburg"},{"$f":"'Boys Reg'!C20","v":""},{"$f":"'Boys Reg'!D20","v":""},{"$f":"'Boys Reg'!E20","v":""},0,0]
[{"$f":"'Boys Reg'!G8","v":"Kevin Reyes"},{"$f":"'Boys Reg'!$G$2","v":"Ocean"},{"$f":"'Boys Reg'!H8","v":""},{"$f":"'Boys Reg'!I8","v":""},{"$f":"'Boys Reg'!J8","v":""},0,0]
[{"$f":"'Boys Reg'!G9","v":"Nicholas Foy"},{"$f":"'Boys Reg'!$G$2","v":"Ocean"},{"$f":"'Boys Reg'!H9","v":""},{"$f":"'Boys Reg'!I9","v":""},{"$f":"'Boys Reg'!J9","v":""},0,0]
[{"$f":"'Boys Reg'!G10","v":""},{"$f":"'Boys Reg'!$G$2","v":"Ocean"},{"$f":"'Boys Reg'!H10","v":""},{"$f":"'Boys Reg'!I10","v":""},{"$f":"'Boys Reg'!J10","v":""},0,0]
[{"$f":"'Boys Reg'!B10","v":""},{"$f":"'Boys Reg'!$B$2","v":"SJV"},{"$f":"'Boys Reg'!C10","v":""},{"$f":"'Boys Reg'!D10","v":""},{"$f":"'Boys Reg'!E10","v":""},0,0]
[{"$f":"'Boys Reg'!B58","v":""},{"$f":"'Boys Reg'!$B$52","v":"Team 11"},{"$f":"'Boys Reg'!C58","v":""},{"$f":"'Boys Reg'!D58","v":""},{"$f":"'Boys Reg'!E58","v":""},0,0]
[{"$f":"'Boys Reg'!B59","v":""},{"$f":"'Boys Reg'!$B$52","v":"Team 11"},{"$f":"'Boys Reg'!C59","v":""},{"$f":"'Boys Reg'!D59","v":""},{"$f":"'Boys Reg'!E59","v":""},0,0]
[{"$f":"'Boys Reg'!B60","v":""},{"$f":"'Boys Reg'!$B$52","v":"Team 11"},{"$f":"'Boys Reg'!C60","v":""},{"$f":"'Boys Reg'!D60","v":""},{"$f":"'Boys Reg'!E60","v":""},0,0]
[{"$f":"'Boys Reg'!G74","v":""},{"$f":"'Boys Reg'!$G$72","v":"Team 16"},{"$f":"'Boys Reg'!H74","v":""},{"$f":"'Boys Reg'!I74","v":""},{"$f":"'Boys Reg'!J74","v":""},0,0]
[{"$f":"'Boys Reg'!G73","v":""},{"$f":"'Boys Reg'!$G$72","v":"Team 16"},{"$f":"'Boys Reg'!H73","v":""},{"$f":"'Boys Reg'!I73","v":""},{"$f":"'Boys Reg'!J73","v":""},0,0]
[{"$f":"'Boys Reg'!B87","v":""},{"$f":"'Boys Reg'!$B$82","v":"Team 17"},{"$f":"'Boys Reg'!C87","v":""},{"$f":"'Boys Reg'!D87","v":""},{"$f":"'Boys Reg'!E87","v":""},0,0]
[{"$f":"'Boys Reg'!B83","v":""},{"$f":"'Boys Reg'!$B$82","v":"Team 17"},{"$f":"'Boys Reg'!C83","v":""},{"$f":"'Boys Reg'!D83","v":""},{"$f":"'Boys Reg'!E83","v":""},0,0]
[{"$f":"'Boys Reg'!B85","v":""},{"$f":"'Boys Reg'!$B$82","v":"Team 17"},{"$f":"'Boys Reg'!C85","v":""},{"$f":"'Boys Reg'!D85","v":""},{"$f":"'Boys Reg'!E85","v":""},0,0]
[{"$f":"'Boys Reg'!B84","v":""},{"$f":"'Boys Reg'!$B$82","v":"Team 17"},{"$f":"'Boys Reg'!C84","v":""},{"$f":"'Boys Reg'!D84","v":""},{"$f":"'Boys Reg'!E84","v":""},0,0]
[{"$f":"'Boys Reg'!G76","v":""},{"$f":"'Boys Reg'!$G$72","v":"Team 16"},{"$f":"'Boys Reg'!H76","v":""},{"$f":"'Boys Reg'!I76","v":""},{"$f":"'Boys Reg'!J76","v":""},0,0]
[{"$f":"'Boys Reg'!G67","v":""},{"$f":"'Boys Reg'!$G$62","v":"Team 14"},{"$f":"'Boys Reg'!H67","v":""},{"$f":"'Boys Reg'!I67","v":""},{"$f":"'Boys Reg'!J67","v":""},0,0]
[{"$f":"'Boys Reg'!B86","v":""},{"$f":"'Boys Reg'!$B$82","v":"Team 17"},{"$f":"'Boys Reg'!C86","v":""},{"$f":"'Boys Reg'!D86","v":""},{"$f":"'Boys Reg'!E86","v":""},0,0]
[{"$f":"'Boys Reg'!G87","v":""},{"$f":"'Boys Reg'!$G$82","v":"Team 18"},{"$f":"'Boys Reg'!H87","v":""},{"$f":"'Boys Reg'!I87","v":""},{"$f":"'Boys Reg'!J87","v":""},0,0]
[{"$f":"'Boys Reg'!G75","v":""},{"$f":"'Boys Reg'!$G$72","v":"Team 16"},{"$f":"'Boys Reg'!H75","v":""},{"$f":"'Boys Reg'!I75","v":""},{"$f":"'Boys Reg'!J75","v":""},0,0]
[{"$f":"'Boys Reg'!B76","v":""},{"$f":"'Boys Reg'!$B$72","v":"Team 15"},{"$f":"'Boys Reg'!C76","v":""},{"$f":"'Boys Reg'!D76","v":""},{"$f":"'Boys Reg'!E76","v":""},0,0]
[{"$f":"'Boys Reg'!B73","v":""},{"$f":"'Boys Reg'!$B$72","v":"Team 15"},{"$f":"'Boys Reg'!C73","v":""},{"$f":"'Boys Reg'!D73","v":""},{"$f":"'Boys Reg'!E73","v":""},0,0]
[{"$f":"'Boys Reg'!G77","v":""},{"$f":"'Boys Reg'!$G$72","v":"Team 16"},{"$f":"'Boys Reg'!H77","v":""},{"$f":"'Boys Reg'!I77","v":""},{"$f":"'Boys Reg'!J77","v":""},0,0]
[{"$f":"'Boys Reg'!B77","v":""},{"$f":"'Boys Reg'!$B$72","v":"Team 15"},{"$f":"'Boys Reg'!C77","v":""},{"$f":"'Boys Reg'!D77","v":""},{"$f":"'Boys Reg'!E77","v":""},0,0]
[{"$f":"'Boys Reg'!G85","v":""},{"$f":"'Boys Reg'!$G$82","v":"Team 18"},{"$f":"'Boys Reg'!H85","v":""},{"$f":"'Boys Reg'!I85","v":""},{"$f":"'Boys Reg'!J85","v":""},0,0]
[{"$f":"'Boys Reg'!B75","v":""},{"$f":"'Boys Reg'!$B$72","v":"Team 15"},{"$f":"'Boys Reg'!C75","v":""},{"$f":"'Boys Reg'!D75","v":""},{"$f":"'Boys Reg'!E75","v":""},0,0]
[{"$f":"'Boys Reg'!G83","v":""},{"$f":"'Boys Reg'!$G$82","v":"Team 18"},{"$f":"'Boys Reg'!H83","v":""},{"$f":"'Boys Reg'!I83","v":""},{"$f":"'Boys Reg'!J83","v":""},0,0]
[{"$f":"'Boys Reg'!G86","v":""},{"$f":"'Boys Reg'!$G$82","v":"Team 18"},{"$f":"'Boys Reg'!H86","v":""},{"$f":"'Boys Reg'!I86","v":""},{"$f":"'Boys Reg'!J86","v":""},0,0]
[{"$f":"'Boys Reg'!G66","v":""},{"$f":"'Boys Reg'!$G$62","v":"Team 14"},{"$f":"'Boys Reg'!H66","v":""},{"$f":"'Boys Reg'!I66","v":""},{"$f":"'Boys Reg'!J66","v":""},0,0]
[{"$f":"'Boys Reg'!G84","v":""},{"$f":"'Boys Reg'!$G$82","v":"Team 18"},{"$f":"'Boys Reg'!H84","v":""},{"$f":"'Boys Reg'!I84","v":""},{"$f":"'Boys Reg'!J84","v":""},0,0]
[{"$f":"'Boys Reg'!G64","v":""},{"$f":"'Boys Reg'!$G$62","v":"Team 14"},{"$f":"'Boys Reg'!H64","v":""},{"$f":"'Boys Reg'!I64","v":""},{"$f":"'Boys Reg'!J64","v":""},0,0]
[{"$f":"'Boys Reg'!G63","v":""},{"$f":"'Boys Reg'!$G$62","v":"Team 14"},{"$f":"'Boys Reg'!H63","v":""},{"$f":"'Boys Reg'!I63","v":""},{"$f":"'Boys Reg'!J63","v":""},0,0]
[{"$f":"'Boys Reg'!G68","v":""},{"$f":"'Boys Reg'!$G$62","v":"Team 14"},{"$f":"'Boys Reg'!H68","v":""},{"$f":"'Boys Reg'!I68","v":""},{"$f":"'Boys Reg'!J68","v":""},0,0]
[{"$f":"'Boys Reg'!G69","v":""},{"$f":"'Boys Reg'!$G$62","v":"Team 14"},{"$f":"'Boys Reg'!H69","v":""},{"$f":"'Boys Reg'!I69","v":""},{"$f":"'Boys Reg'!J69","v":""},0,0]
[{"$f":"'Boys Reg'!B78","v":""},{"$f":"'Boys Reg'!$B$72","v":"Team 15"},{"$f":"'Boys Reg'!C78","v":""},{"$f":"'Boys Reg'!D78","v":""},{"$f":"'Boys Reg'!E78","v":""},0,0]
[{"$f":"'Boys Reg'!B74","v":""},{"$f":"'Boys Reg'!$B$72","v":"Team 15"},{"$f":"'Boys Reg'!C74","v":""},{"$f":"'Boys Reg'!D74","v":""},{"$f":"'Boys Reg'!E74","v":""},0,0]
[{"$f":"'Boys Reg'!G65","v":""},{"$f":"'Boys Reg'!$G$62","v":"Team 14"},{"$f":"'Boys Reg'!H65","v":""},{"$f":"'Boys Reg'!I65","v":""},{"$f":"'Boys Reg'!J65","v":""},0,0]
[{"$f":"'Boys Reg'!G70","v":""},{"$f":"'Boys Reg'!$G$62","v":"Team 14"},{"$f":"'Boys Reg'!H70","v":""},{"$f":"'Boys Reg'!I70","v":""},{"$f":"'Boys Reg'!J70","v":""},0,0]
[{"$f":"'Boys Reg'!B79","v":""},{"$f":"'Boys Reg'!$B$72","v":"Team 15"},{"$f":"'Boys Reg'!C79","v":""},{"$f":"'Boys Reg'!D79","v":""},{"$f":"'Boys Reg'!E79","v":""},0,0]
[{"$f":"'Boys Reg'!B80","v":""},{"$f":"'Boys Reg'!$B$72","v":"Team 15"},{"$f":"'Boys Reg'!C80","v":""},{"$f":"'Boys Reg'!D80","v":""},{"$f":"'Boys Reg'!E80","v":""},0,0]
[{"$f":"'Boys Reg'!G78","v":""},{"$f":"'Boys Reg'!$G$72","v":"Team 16"},{"$f":"'Boys Reg'!H78","v":""},{"$f":"'Boys Reg'!I78","v":""},{"$f":"'Boys Reg'!J78","v":""},0,0]
[{"$f":"'Boys Reg'!G79","v":""},{"$f":"'Boys Reg'!$G$72","v":"Team 16"},{"$f":"'Boys Reg'!H79","v":""},{"$f":"'Boys Reg'!I79","v":""},{"$f":"'Boys Reg'!J79","v":""},0,0]
[{"$f":"'Boys Reg'!G80","v":""},{"$f":"'Boys Reg'!$G$72","v":"Team 16"},{"$f":"'Boys Reg'!H80","v":""},{"$f":"'Boys Reg'!I80","v":""},{"$f":"'Boys Reg'!J80","v":""},0,0]
[{"$f":"'Boys Reg'!B88","v":""},{"$f":"'Boys Reg'!$B$82","v":"Team 17"},{"$f":"'Boys Reg'!C88","v":""},{"$f":"'Boys Reg'!D88","v":""},{"$f":"'Boys Reg'!E88","v":""},0,0]
[{"$f":"'Boys Reg'!B89","v":""},{"$f":"'Boys Reg'!$B$82","v":"Team 17"},{"$f":"'Boys Reg'!C89","v":""},{"$f":"'Boys Reg'!D89","v":""},{"$f":"'Boys Reg'!E89","v":""},0,0]
[{"$f":"'Boys Reg'!B90","v":""},{"$f":"'Boys Reg'!$B$82","v":"Team 17"},{"$f":"'Boys Reg'!C90","v":""},{"$f":"'Boys Reg'!D90","v":""},{"$f":"'Boys Reg'!E90","v":""},0,0]
[{"$f":"'Boys Reg'!G88","v":""},{"$f":"'Boys Reg'!$G$82","v":"Team 18"},{"$f":"'Boys Reg'!H88","v":""},{"$f":"'Boys Reg'!I88","v":""},{"$f":"'Boys Reg'!J88","v":""},0,0]
[{"$f":"'Boys Reg'!G89","v":""},{"$f":"'Boys Reg'!$G$82","v":"Team 18"},{"$f":"'Boys Reg'!H89","v":""},{"$f":"'Boys Reg'!I89","v":""},{"$f":"'Boys Reg'!J89","v":""},0,0]
[{"$f":"'Boys Reg'!G90","v":""},{"$f":"'Boys Reg'!$G$82","v":"Team 18"},{"$f":"'Boys Reg'!H90","v":""},{"$f":"'Boys Reg'!I90","v":""},{"$f":"'Boys Reg'!J90","v":""},0,0]

{"sheet":"Boys Ind. High Series","index":2,"n_rows":145,"n_cols":7,"rows_kept":145,"cut":false,"hidden":false,"merged":[]}
["Name","School","Game 1","Game 2","Game 3","Series","High Game"]
[{"$f":"'Boys Reg'!G36","v":"Elizjah Boone"},{"$f":"'Boys Reg'!$G$32","v":"Roselle"},{"$f":"'Boys Reg'!H36","v":163},{"$f":"'Boys Reg'!I36","v":267},{"$f":"'Boys Reg'!J36","v":202},{"$f":"SUM(C2:E2)","v":632},{"$f":"MAX(C2:E2)","v":267}]
[{"$f":"'Boys Reg'!G5","v":"Michael DeGilio"},{"$f":"'Boys Reg'!$G$2","v":"Ocean"},{"$f":"'Boys Reg'!H5","v":207},{"$f":"'Boys Reg'!I5","v":184},{"$f":"'Boys Reg'!J5","v":221},612,221]
[{"$f":"'Boys Reg'!G6","v":"Robbie Hughes"},{"$f":"'Boys Reg'!$G$2","v":"Ocean"},{"$f":"'Boys Reg'!H6","v":254},{"$f":"'Boys Reg'!I6","v":185},{"$f":"'Boys Reg'!J6","v":152},591,254]
[{"$f":"'Boys Reg'!G35","v":"Austin Torres"},{"$f":"'Boys Reg'!$G$32","v":"Roselle"},{"$f":"'Boys Reg'!H35","v":156},{"$f":"'Boys Reg'!I35","v":211},{"$f":"'Boys Reg'!J35","v":218},585,218]
[{"$f":"'Boys Reg'!G37","v":"Luis Torres"},{"$f":"'Boys Reg'!$G$32","v":"Roselle"},{"$f":"'Boys Reg'!H37","v":193},{"$f":"'Boys Reg'!I37","v":172},{"$f":"'Boys Reg'!J37","v":217},582,217]
[{"$f":"'Boys Reg'!G17","v":"Matt Nilan"},{"$f":"'Boys Reg'!$G$12","v":"Bayonne"},{"$f":"'Boys Reg'!H17","v":182},{"$f":"'Boys Reg'!I17","v":204},{"$f":"'Boys Reg'!J17","v":183},569,204]
[{"$f":"'Boys Reg'!B27","v":"Aaron Reingold"},{"$f":"'Boys Reg'!$B$22","v":"Matawan"},{"$f":"'Boys Reg'!C27","v":190},{"$f":"'Boys Reg'!D27","v":163},{"$f":"'Boys Reg'!E27","v":212},565,212]
[{"$f":"'Boys Reg'!G15","v":"Jamarion Wright"},{"$f":"'Boys Reg'!$G$12","v":"Bayonne"},{"$f":"'Boys Reg'!H15","v":151},{"$f":"'Boys Reg'!I15","v":216},{"$f":"'Boys Reg'!J15","v":179},546,216]
[{"$f":"'Boys Reg'!B17","v":"Chris DeSantis"},{"$f":"'Boys Reg'!$B$12","v":"Keansburg"},{"$f":"'Boys Reg'!C17","v":187},{"$f":"'Boys Reg'!D17","v":151},{"$f":"'Boys Reg'!E17","v":208},546,208]
[{"$f":"'Boys Reg'!B7","v":"John Vitali"},{"$f":"'Boys Reg'!$B$2","v":"SJV"},{"$f":"'Boys Reg'!C7","v":147},{"$f":"'Boys Reg'!D7","v":192},{"$f":"'Boys Reg'!E7","v":202},541,202]
[{"$f":"'Boys Reg'!G3","v":"Jack Henry"},{"$f":"'Boys Reg'!$G$2","v":"Ocean"},{"$f":"'Boys Reg'!H3","v":202},{"$f":"'Boys Reg'!I3","v":157},{"$f":"'Boys Reg'!J3","v":176},535,202]
[{"$f":"'Boys Reg'!G26","v":"Jack Loiacono"},{"$f":"'Boys Reg'!$G$22","v":"Henry Hudson"},{"$f":"'Boys Reg'!H26","v":158},{"$f":"'Boys Reg'!I26","v":179},{"$f":"'Boys Reg'!J26","v":175},512,179]
[{"$f":"'Boys Reg'!B26","v":"Lucan DiGregorio"},{"$f":"'Boys Reg'!$B$22","v":"Matawan"},{"$f":"'Boys Reg'!C26","v":193},{"$f":"'Boys Reg'!D26","v":146},{"$f":"'Boys Reg'!E26","v":160},499,193]
[{"$f":"'Boys Reg'!G47","v":"William Mosan"},{"$f":"'Boys Reg'!$G$42","v":"Lakewood"},{"$f":"'Boys Reg'!H47","v":161},{"$f":"'Boys Reg'!I47","v":151},{"$f":"'Boys Reg'!J47","v":172},484,172]
[{"$f":"'Boys Reg'!G16","v":"Jake Peregrin"},{"$f":"'Boys Reg'!$G$12","v":"Bayonne"},{"$f":"'Boys Reg'!H16","v":158},{"$f":"'Boys Reg'!I16","v":169},{"$f":"'Boys Reg'!J16","v":143},470,169]
[{"$f":"'Boys Reg'!G14","v":"Joe Novielli"},{"$f":"'Boys Reg'!$G$12","v":"Bayonne"},{"$f":"'Boys Reg'!H14","v":154},{"$f":"'Boys Reg'!I14","v":168},{"$f":"'Boys Reg'!J14","v":142},464,168]
[{"$f":"'Boys Reg'!G4","v":"Chris Munoz"},{"$f":"'Boys Reg'!$G$2","v":"Ocean"},{"$f":"'Boys Reg'!H4","v":190},{"$f":"'Boys Reg'!I4","v":126},{"$f":"'Boys Reg'!J4","v":147},463,190]
[{"$f":"'Boys Reg'!B6","v":"Zach Schiavone"},{"$f":"'Boys Reg'!$B$2","v":"SJV"},{"$f":"'Boys Reg'!C6","v":162},{"$f":"'Boys Reg'!D6","v":115},{"$f":"'Boys Reg'!E6","v":183},460,183]
[{"$f":"'Boys Reg'!G23","v":"Ralph D'Antonio"},{"$f":"'Boys Reg'!$G$22","v":"Henry Hudson"},{"$f":"'Boys Reg'!H23","v":154},{"$f":"'Boys Reg'!I23","v":123},{"$f":"'Boys Reg'!J23","v":180},457,180]
[{"$f":"'Boys Reg'!B5","v":"George Anderson"},{"$f":"'Boys Reg'!$B$2","v":"SJV"},{"$f":"'Boys Reg'!C5","v":167},{"$f":"'Boys Reg'!D5","v":158},{"$f":"'Boys Reg'!E5","v":128},453,167]
[{"$f":"'Boys Reg'!G7","v":"Jason Norris"},{"$f":"'Boys Reg'!$G$2","v":"Ocean"},{"$f":"'Boys Reg'!H7","v":151},{"$f":"'Boys Reg'!I7","v":168},{"$f":"'Boys Reg'!J7","v":131},450,168]
[{"$f":"'Boys Reg'!B23","v":"Logan Grillo"},{"$f":"'Boys Reg'!$B$22","v":"Matawan"},{"$f":"'Boys Reg'!C23","v":144},{"$f":"'Boys Reg'!D23","v":128},{"$f":"'Boys Reg'!E23","v":173},445,173]
[{"$f":"'Boys Reg'!G13","v":"Efrain Gonzalez"},{"$f":"'Boys Reg'!$G$12","v":"Bayonne"},{"$f":"'Boys Reg'!H13","v":107},{"$f":"'Boys Reg'!I13","v":156},{"$f":"'Boys Reg'!J13","v":167},430,167]
[{"$f":"'Boys Reg'!G27","v":"Billy Miller"},{"$f":"'Boys Reg'!$G$22","v":"Henry Hudson"},{"$f":"'Boys Reg'!H27","v":119},{"$f":"'Boys Reg'!I27","v":137},{"$f":"'Boys Reg'!J27","v":169},425,169]
[{"$f":"'Boys Reg'!B45","v":"Hanna Hale"},{"$f":"'Boys Reg'!$B$42","v":"Mater Dei"},{"$f":"'Boys Reg'!C45","v":156},{"$f":"'Boys Reg'!D45","v":135},{"$f":"'Boys Reg'!E45","v":129},420,156]
[{"$f":"'Boys Reg'!B13","v":"Joe Sautner"},{"$f":"'Boys Reg'!$B$12","v":"Keansburg"},{"$f":"'Boys Reg'!C13","v":197},{"$f":"'Boys Reg'!D13","v":103},{"$f":"'Boys Reg'!E13","v":116},416,197]
[{"$f":"'Boys Reg'!B16","v":"Brian Laskiewicz"},{"$f":"'Boys Reg'!$B$12","v":"Keansburg"},{"$f":"'Boys Reg'!C16","v":124},{"$f":"'Boys Reg'!D16","v":169},{"$f":"'Boys Reg'!E16","v":120},413,169]
[{"$f":"'Boys Reg'!B15","v":"Kyle Scott"},{"$f":"'Boys Reg'!$B$12","v":"Keansburg"},{"$f":"'Boys Reg'!C15","v":104},{"$f":"'Boys Reg'!D15","v":137},{"$f":"'Boys Reg'!E15","v":169},410,169]
[{"$f":"'Boys Reg'!B4","v":"Matt Bruchez"},{"$f":"'Boys Reg'!$B$2","v":"SJV"},{"$f":"'Boys Reg'!C4","v":116},{"$f":"'Boys Reg'!D4","v":128},{"$f":"'Boys Reg'!E4","v":151},395,151]
[{"$f":"'Boys Reg'!G34","v":"Hector Rosa"},{"$f":"'Boys Reg'!$G$32","v":"Roselle"},{"$f":"'Boys Reg'!H34","v":152},{"$f":"'Boys Reg'!I34","v":108},{"$f":"'Boys Reg'!J34","v":133},393,152]
[{"$f":"'Boys Reg'!B35","v":"Resse Mehan"},{"$f":"'Boys Reg'!$B$32","v":"Keyport"},{"$f":"'Boys Reg'!C35","v":118},{"$f":"'Boys Reg'!D35","v":119},{"$f":"'Boys Reg'!E35","v":148},385,148]
[{"$f":"'Boys Reg'!B37","v":"Jacen Shores"},{"$f":"'Boys Reg'!$B$32","v":"Keyport"},{"$f":"'Boys Reg'!C37","v":102},{"$f":"'Boys Reg'!D37","v":137},{"$f":"'Boys Reg'!E37","v":133},372,137]
[{"$f":"'Boys Reg'!G43","v":"Daniel Sanchez"},{"$f":"'Boys Reg'!$G$42","v":"Lakewood"},{"$f":"'Boys Reg'!H43","v":113},{"$f":"'Boys Reg'!I43","v":152},{"$f":"'Boys Reg'!J43","v":102},367,152]
[{"$f":"'Boys Reg'!B14","v":"Dominick Grasso"},{"$f":"'Boys Reg'!$B$12","v":"Keansburg"},{"$f":"'Boys Reg'!C14","v":128},{"$f":"'Boys Reg'!D14","v":126},{"$f":"'Boys Reg'!E14","v":110},364,128]
[{"$f":"'Boys Reg'!G46","v":"Edgar Perez"},{"$f":"'Boys Reg'!$G$42","v":"Lakewood"},{"$f":"'Boys Reg'!H46","v":115},{"$f":"'Boys Reg'!I46","v":131},{"$f":"'Boys Reg'!J46","v":109},355,131]
[{"$f":"'Boys Reg'!B36","v":"Josh Vazquez"},{"$f":"'Boys Reg'!$B$32","v":"Keyport"},{"$f":"'Boys Reg'!C36","v":111},{"$f":"'Boys Reg'!D36","v":122},{"$f":"'Boys Reg'!E36","v":109},342,122]
[{"$f":"'Boys Reg'!G33","v":"ZiAyre Chevailer"},{"$f":"'Boys Reg'!$G$32","v":"Roselle"},{"$f":"'Boys Reg'!H33","v":124},{"$f":"'Boys Reg'!I33","v":113},{"$f":"'Boys Reg'!J33","v":102},339,124]
[{"$f":"'Boys Reg'!B44","v":"Paris Merse"},{"$f":"'Boys Reg'!$B$42","v":"Mater Dei"},{"$f":"'Boys Reg'!C44","v":95},{"$f":"'Boys Reg'!D44","v":113},{"$f":"'Boys Reg'!E44","v":123},331,123]
[{"$f":"'Boys Reg'!B47","v":"Joey Stanton"},{"$f":"'Boys Reg'!$B$42","v":"Mater Dei"},{"$f":"'Boys Reg'!C47","v":95},{"$f":"'Boys Reg'!D47","v":125},{"$f":"'Boys Reg'!E47","v":101},321,125]
[{"$f":"'Boys Reg'!B46","v":"Chris Pfirrman"},{"$f":"'Boys Reg'!$B$42","v":"Mater Dei"},{"$f":"'Boys Reg'!C46","v":98},{"$f":"'Boys Reg'!D46","v":107},{"$f":"'Boys Reg'!E46","v":111},316,111]
[{"$f":"'Boys Reg'!B43","v":"Alphonse Vota"},{"$f":"'Boys Reg'!$B$42","v":"Mater Dei"},{"$f":"'Boys Reg'!C43","v":77},{"$f":"'Boys Reg'!D43","v":116},{"$f":"'Boys Reg'!E43","v":120},313,120]
[{"$f":"'Boys Reg'!B34","v":"Christian Oldhafer"},{"$f":"'Boys Reg'!$B$32","v":"Keyport"},{"$f":"'Boys Reg'!C34","v":116},{"$f":"'Boys Reg'!D34","v":95},{"$f":"'Boys Reg'!E34","v":78},289,116]
[{"$f":"'Boys Reg'!G28","v":"Nick Brown"},{"$f":"'Boys Reg'!$G$22","v":"Henry Hudson"},{"$f":"'Boys Reg'!H28","v":""},{"$f":"'Boys Reg'!I28","v":138},{"$f":"'Boys Reg'!J28","v":135},273,138]
[{"$f":"'Boys Reg'!G24","v":"Jason Rockafellow"},{"$f":"'Boys Reg'!$G$22","v":"Henry Hudson"},{"$f":"'Boys Reg'!H24","v":110},{"$f":"'Boys Reg'!I24","v":158},{"$f":"'Boys Reg'!J24","v":""},268,158]
[{"$f":"'Boys Reg'!B33","v":"Michael Graham"},{"$f":"'Boys Reg'!$B$32","v":"Keyport"},{"$f":"'Boys Reg'!C33","v":85},{"$f":"'Boys Reg'!D33","v":88},{"$f":"'Boys Reg'!E33","v":78},251,88]
[{"$f":"'Boys Reg'!B3","v":"Chris Moran"},{"$f":"'Boys Reg'!$B$2","v":"SJV"},{"$f":"'Boys Reg'!C3","v":113},{"$f":"'Boys Reg'!D3","v":123},{"$f":"'Boys Reg'!E3","v":""},236,123]
[{"$f":"'Boys Reg'!B24","v":"Matt Lalor"},{"$f":"'Boys Reg'!$B$22","v":"Matawan"},{"$f":"'Boys Reg'!C24","v":111},{"$f":"'Boys Reg'!D24","v":""},{"$f":"'Boys Reg'!E24","v":95},206,111]
[{"$f":"'Boys Reg'!G48","v":"Charles Kopcho"},{"$f":"'Boys Reg'!$G$42","v":"Lakewood"},{"$f":"'Boys Reg'!H48","v":""},{"$f":"'Boys Reg'!I48","v":112},{"$f":"'Boys Reg'!J48","v":89},201,112]
[{"$f":"'Boys Reg'!G45","v":"Kevin Cosme"},{"$f":"'Boys Reg'!$G$42","v":"Lakewood"},{"$f":"'Boys Reg'!H45","v":111},{"$f":"'Boys Reg'!I45","v":75},{"$f":"'Boys Reg'!J45","v":""},186,111]
[{"$f":"'Boys Reg'!G44","v":"Marro Rojas"},{"$f":"'Boys Reg'!$G$42","v":"Lakewood"},{"$f":"'Boys Reg'!H44","v":85},{"$f":"'Boys Reg'!I44","v":""},{"$f":"'Boys Reg'!J44","v":93},178,93]
[{"$f":"'Boys Reg'!B28","v":"Noah Ali"},{"$f":"'Boys Reg'!$B$22","v":"Matawan"},{"$f":"'Boys Reg'!C28","v":""},{"$f":"'Boys Reg'!D28","v":105},{"$f":"'Boys Reg'!E28","v":70},175,105]
[{"$f":"'Boys Reg'!G29","v":"Matt Crossan"},{"$f":"'Boys Reg'!$G$22","v":"Henry Hudson"},{"$f":"'Boys Reg'!H29","v":""},{"$f":"'Boys Reg'!I29","v":""},{"$f":"'Boys Reg'!J29","v":124},124,124]
[{"$f":"'Boys Reg'!B29","v":"James Orleman"},{"$f":"'Boys Reg'!$B$22","v":"Matawan"},{"$f":"'Boys Reg'!C29","v":""},{"$f":"'Boys Reg'!D29","v":100},{"$f":"'Boys Reg'!E29","v":""},100,100]
[{"$f":"'Boys Reg'!G25","v":"Chris Saunders"},{"$f":"'Boys Reg'!$G$22","v":"Henry Hudson"},{"$f":"'Boys Reg'!H25","v":89},{"$f":"'Boys Reg'!I25","v":""},{"$f":"'Boys Reg'!J25","v":""},89,89]
[{"$f":"'Boys Reg'!B25","v":"Ethan Liranzo"},{"$f":"'Boys Reg'!$B$22","v":"Matawan"},{"$f":"'Boys Reg'!C25","v":84},{"$f":"'Boys Reg'!D25","v":""},{"$f":"'Boys Reg'!E25","v":""},84,84]
[{"$f":"'Boys Reg'!B8","v":"Conor O'Grady"},{"$f":"'Boys Reg'!$B$2","v":"SJV"},{"$f":"'Boys Reg'!C8","v":""},{"$f":"'Boys Reg'!D8","v":""},{"$f":"'Boys Reg'!E8","v":76},76,76]
[{"$f":"'Boys Reg'!B57","v":""},{"$f":"'Boys Reg'!$B$52","v":"Team 11"},{"$f":"'Boys Reg'!C57","v":""},{"$f":"'Boys Reg'!D57","v":""},{"$f":"'Boys Reg'!E57","v":""},0,0]
[{"$f":"'Boys Reg'!B67","v":""},{"$f":"'Boys Reg'!$B$62","v":"Team 13"},{"$f":"'Boys Reg'!C67","v":""},{"$f":"'Boys Reg'!D67","v":""},{"$f":"'Boys Reg'!E67","v":""},0,0]
[{"$f":"'Boys Reg'!B65","v":""},{"$f":"'Boys Reg'!$B$62","v":"Team 13"},{"$f":"'Boys Reg'!C65","v":""},{"$f":"'Boys Reg'!D65","v":""},{"$f":"'Boys Reg'!E65","v":""},0,0]
[{"$f":"'Boys Reg'!B66","v":""},{"$f":"'Boys Reg'!$B$62","v":"Team 13"},{"$f":"'Boys Reg'!C66","v":""},{"$f":"'Boys Reg'!D66","v":""},{"$f":"'Boys Reg'!E66","v":""},0,0]
[{"$f":"'Boys Reg'!B63","v":""},{"$f":"'Boys Reg'!$B$62","v":"Team 13"},{"$f":"'Boys Reg'!C63","v":""},{"$f":"'Boys Reg'!D63","v":""},{"$f":"'Boys Reg'!E63","v":""},0,0]
[{"$f":"'Boys Reg'!B55","v":""},{"$f":"'Boys Reg'!$B$52","v":"Team 11"},{"$f":"'Boys Reg'!C55","v":""},{"$f":"'Boys Reg'!D55","v":""},{"$f":"'Boys Reg'!E55","v":""},0,0]
[{"$f":"'Boys Reg'!B56","v":""},{"$f":"'Boys Reg'!$B$52","v":"Team 11"},{"$f":"'Boys Reg'!C56","v":""},{"$f":"'Boys Reg'!D56","v":""},{"$f":"'Boys Reg'!E56","v":""},0,0]
[{"$f":"'Boys Reg'!B64","v":""},{"$f":"'Boys Reg'!$B$62","v":"Team 13"},{"$f":"'Boys Reg'!C64","v":""},{"$f":"'Boys Reg'!D64","v":""},{"$f":"'Boys Reg'!E64","v":""},0,0]
[{"$f":"'Boys Reg'!G57","v":""},{"$f":"'Boys Reg'!$G$52","v":"Team 12"},{"$f":"'Boys Reg'!H57","v":""},{"$f":"'Boys Reg'!I57","v":""},{"$f":"'Boys Reg'!J57","v":""},0,0]
[{"$f":"'Boys Reg'!G56","v":""},{"$f":"'Boys Reg'!$G$52","v":"Team 12"},{"$f":"'Boys Reg'!H56","v":""},{"$f":"'Boys Reg'!I56","v":""},{"$f":"'Boys Reg'!J56","v":""},0,0]
[{"$f":"'Boys Reg'!B54","v":""},{"$f":"'Boys Reg'!$B$52","v":"Team 11"},{"$f":"'Boys Reg'!C54","v":""},{"$f":"'Boys Reg'!D54","v":""},{"$f":"'Boys Reg'!E54","v":""},0,0]
[{"$f":"'Boys Reg'!G55","v":""},{"$f":"'Boys Reg'!$G$52","v":"Team 12"},{"$f":"'Boys Reg'!H55","v":""},{"$f":"'Boys Reg'!I55","v":""},{"$f":"'Boys Reg'!J55","v":""},0,0]
[{"$f":"'Boys Reg'!G53","v":""},{"$f":"'Boys Reg'!$G$52","v":"Team 12"},{"$f":"'Boys Reg'!H53","v":""},{"$f":"'Boys Reg'!I53","v":""},{"$f":"'Boys Reg'!J53","v":""},0,0]
[{"$f":"'Boys Reg'!B53","v":""},{"$f":"'Boys Reg'!$B$52","v":"Team 11"},{"$f":"'Boys Reg'!C53","v":""},{"$f":"'Boys Reg'!D53","v":""},{"$f":"'Boys Reg'!E53","v":""},0,0]
[{"$f":"'Boys Reg'!B9","v":""},{"$f":"'Boys Reg'!$B$2","v":"SJV"},{"$f":"'Boys Reg'!C9","v":""},{"$f":"'Boys Reg'!D9","v":""},{"$f":"'Boys Reg'!E9","v":""},0,0]
[{"$f":"'Boys Reg'!G19","v":""},{"$f":"'Boys Reg'!$G$12","v":"Bayonne"},{"$f":"'Boys Reg'!H19","v":""},{"$f":"'Boys Reg'!I19","v":""},{"$f":"'Boys Reg'!J19","v":""},0,0]
[{"$f":"'Boys Reg'!G18","v":""},{"$f":"'Boys Reg'!$G$12","v":"Bayonne"},{"$f":"'Boys Reg'!H18","v":""},{"$f":"'Boys Reg'!I18","v":""},{"$f":"'Boys Reg'!J18","v":""},0,0]
[{"$f":"'Boys Reg'!B85","v":""},{"$f":"'Boys Reg'!$B$82","v":"Team 17"},{"$f":"'Boys Reg'!C85","v":""},{"$f":"'Boys Reg'!D85","v":""},{"$f":"'Boys Reg'!E85","v":""},0,0]
[{"$f":"'Boys Reg'!G73","v":""},{"$f":"'Boys Reg'!$G$72","v":"Team 16"},{"$f":"'Boys Reg'!H73","v":""},{"$f":"'Boys Reg'!I73","v":""},{"$f":"'Boys Reg'!J73","v":""},0,0]
[{"$f":"'Boys Reg'!G67","v":""},{"$f":"'Boys Reg'!$G$62","v":"Team 14"},{"$f":"'Boys Reg'!H67","v":""},{"$f":"'Boys Reg'!I67","v":""},{"$f":"'Boys Reg'!J67","v":""},0,0]
[{"$f":"'Boys Reg'!G76","v":""},{"$f":"'Boys Reg'!$G$72","v":"Team 16"},{"$f":"'Boys Reg'!H76","v":""},{"$f":"'Boys Reg'!I76","v":""},{"$f":"'Boys Reg'!J76","v":""},0,0]
[{"$f":"'Boys Reg'!B83","v":""},{"$f":"'Boys Reg'!$B$82","v":"Team 17"},{"$f":"'Boys Reg'!C83","v":""},{"$f":"'Boys Reg'!D83","v":""},{"$f":"'Boys Reg'!E83","v":""},0,0]
[{"$f":"'Boys Reg'!B87","v":""},{"$f":"'Boys Reg'!$B$82","v":"Team 17"},{"$f":"'Boys Reg'!C87","v":""},{"$f":"'Boys Reg'!D87","v":""},{"$f":"'Boys Reg'!E87","v":""},0,0]
[{"$f":"'Boys Reg'!G74","v":""},{"$f":"'Boys Reg'!$G$72","v":"Team 16"},{"$f":"'Boys Reg'!H74","v":""},{"$f":"'Boys Reg'!I74","v":""},{"$f":"'Boys Reg'!J74","v":""},0,0]
[{"$f":"'Boys Reg'!B84","v":""},{"$f":"'Boys Reg'!$B$82","v":"Team 17"},{"$f":"'Boys Reg'!C84","v":""},{"$f":"'Boys Reg'!D84","v":""},{"$f":"'Boys Reg'!E84","v":""},0,0]
[{"$f":"'Boys Reg'!B86","v":""},{"$f":"'Boys Reg'!$B$82","v":"Team 17"},{"$f":"'Boys Reg'!C86","v":""},{"$f":"'Boys Reg'!D86","v":""},{"$f":"'Boys Reg'!E86","v":""},0,0]
[{"$f":"'Boys Reg'!B77","v":""},{"$f":"'Boys Reg'!$B$72","v":"Team 15"},{"$f":"'Boys Reg'!C77","v":""},{"$f":"'Boys Reg'!D77","v":""},{"$f":"'Boys Reg'!E77","v":""},0,0]
[{"$f":"'Boys Reg'!G77","v":""},{"$f":"'Boys Reg'!$G$72","v":"Team 16"},{"$f":"'Boys Reg'!H77","v":""},{"$f":"'Boys Reg'!I77","v":""},{"$f":"'Boys Reg'!J77","v":""},0,0]
[{"$f":"'Boys Reg'!B73","v":""},{"$f":"'Boys Reg'!$B$72","v":"Team 15"},{"$f":"'Boys Reg'!C73","v":""},{"$f":"'Boys Reg'!D73","v":""},{"$f":"'Boys Reg'!E73","v":""},0,0]
[{"$f":"'Boys Reg'!G87","v":""},{"$f":"'Boys Reg'!$G$82","v":"Team 18"},{"$f":"'Boys Reg'!H87","v":""},{"$f":"'Boys Reg'!I87","v":""},{"$f":"'Boys Reg'!J87","v":""},0,0]
[{"$f":"'Boys Reg'!G75","v":""},{"$f":"'Boys Reg'!$G$72","v":"Team 16"},{"$f":"'Boys Reg'!H75","v":""},{"$f":"'Boys Reg'!I75","v":""},{"$f":"'Boys Reg'!J75","v":""},0,0]
[{"$f":"'Boys Reg'!G83","v":""},{"$f":"'Boys Reg'!$G$82","v":"Team 18"},{"$f":"'Boys Reg'!H83","v":""},{"$f":"'Boys Reg'!I83","v":""},{"$f":"'Boys Reg'!J83","v":""},0,0]
[{"$f":"'Boys Reg'!B76","v":""},{"$f":"'Boys Reg'!$B$72","v":"Team 15"},{"$f":"'Boys Reg'!C76","v":""},{"$f":"'Boys Reg'!D76","v":""},{"$f":"'Boys Reg'!E76","v":""},0,0]
[{"$f":"'Boys Reg'!B75","v":""},{"$f":"'Boys Reg'!$B$72","v":"Team 15"},{"$f":"'Boys Reg'!C75","v":""},{"$f":"'Boys Reg'!D75","v":""},{"$f":"'Boys Reg'!E75","v":""},0,0]
[{"$f":"'Boys Reg'!G66","v":""},{"$f":"'Boys Reg'!$G$62","v":"Team 14"},{"$f":"'Boys Reg'!H66","v":""},{"$f":"'Boys Reg'!I66","v":""},{"$f":"'Boys Reg'!J66","v":""},0,0]
[{"$f":"'Boys Reg'!G85","v":""},{"$f":"'Boys Reg'!$G$82","v":"Team 18"},{"$f":"'Boys Reg'!H85","v":""},{"$f":"'Boys Reg'!I85","v":""},{"$f":"'Boys Reg'!J85","v":""},0,0]
[{"$f":"'Boys Reg'!G86","v":""},{"$f":"'Boys Reg'!$G$82","v":"Team 18"},{"$f":"'Boys Reg'!H86","v":""},{"$f":"'Boys Reg'!I86","v":""},{"$f":"'Boys Reg'!J86","v":""},0,0]
[{"$f":"'Boys Reg'!G63","v":""},{"$f":"'Boys Reg'!$G$62","v":"Team 14"},{"$f":"'Boys Reg'!H63","v":""},{"$f":"'Boys Reg'!I63","v":""},{"$f":"'Boys Reg'!J63","v":""},0,0]
[{"$f":"'Boys Reg'!G58","v":""},{"$f":"'Boys Reg'!$G$52","v":"Team 12"},{"$f":"'Boys Reg'!H58","v":""},{"$f":"'Boys Reg'!I58","v":""},{"$f":"'Boys Reg'!J58","v":""},0,0]
[{"$f":"'Boys Reg'!B58","v":""},{"$f":"'Boys Reg'!$B$52","v":"Team 11"},{"$f":"'Boys Reg'!C58","v":""},{"$f":"'Boys Reg'!D58","v":""},{"$f":"'Boys Reg'!E58","v":""},0,0]
[{"$f":"'Boys Reg'!G54","v":""},{"$f":"'Boys Reg'!$G$52","v":"Team 12"},{"$f":"'Boys Reg'!H54","v":""},{"$f":"'Boys Reg'!I54","v":""},{"$f":"'Boys Reg'!J54","v":""},0,0]
[{"$f":"'Boys Reg'!G84","v":""},{"$f":"'Boys Reg'!$G$82","v":"Team 18"},{"$f":"'Boys Reg'!H84","v":""},{"$f":"'Boys Reg'!I84","v":""},{"$f":"'Boys Reg'!J84","v":""},0,0]
[{"$f":"'Boys Reg'!B18","v":""},{"$f":"'Boys Reg'!$B$12","v":"Keansburg"},{"$f":"'Boys Reg'!C18","v":""},{"$f":"'Boys Reg'!D18","v":""},{"$f":"'Boys Reg'!E18","v":""},0,0]
[{"$f":"'Boys Reg'!G8","v":"Kevin Reyes"},{"$f":"'Boys Reg'!$G$2","v":"Ocean"},{"$f":"'Boys Reg'!H8","v":""},{"$f":"'Boys Reg'!I8","v":""},{"$f":"'Boys Reg'!J8","v":""},0,0]
[{"$f":"'Boys Reg'!G64","v":""},{"$f":"'Boys Reg'!$G$62","v":"Team 14"},{"$f":"'Boys Reg'!H64","v":""},{"$f":"'Boys Reg'!I64","v":""},{"$f":"'Boys Reg'!J64","v":""},0,0]
[{"$f":"'Boys Reg'!G69","v":""},{"$f":"'Boys Reg'!$G$62","v":"Team 14"},{"$f":"'Boys Reg'!H69","v":""},{"$f":"'Boys Reg'!I69","v":""},{"$f":"'Boys Reg'!J69","v":""},0,0]
[{"$f":"'Boys Reg'!B74","v":""},{"$f":"'Boys Reg'!$B$72","v":"Team 15"},{"$f":"'Boys Reg'!C74","v":""},{"$f":"'Boys Reg'!D74","v":""},{"$f":"'Boys Reg'!E74","v":""},0,0]
[{"$f":"'Boys Reg'!B30","v":""},{"$f":"'Boys Reg'!$B$22","v":"Matawan"},{"$f":"'Boys Reg'!C30","v":""},{"$f":"'Boys Reg'!D30","v":""},{"$f":"'Boys Reg'!E30","v":""},0,0]
[{"$f":"'Boys Reg'!G68","v":""},{"$f":"'Boys Reg'!$G$62","v":"Team 14"},{"$f":"'Boys Reg'!H68","v":""},{"$f":"'Boys Reg'!I68","v":""},{"$f":"'Boys Reg'!J68","v":""},0,0]
[{"$f":"'Boys Reg'!B78","v":""},{"$f":"'Boys Reg'!$B$72","v":"Team 15"},{"$f":"'Boys Reg'!C78","v":""},{"$f":"'Boys Reg'!D78","v":""},{"$f":"'Boys Reg'!E78","v":""},0,0]
[{"$f":"'Boys Reg'!G65","v":""},{"$f":"'Boys Reg'!$G$62","v":"Team 14"},{"$f":"'Boys Reg'!H65","v":""},{"$f":"'Boys Reg'!I65","v":""},{"$f":"'Boys Reg'!J65","v":""},0,0]
[{"$f":"'Boys Reg'!B10","v":""},{"$f":"'Boys Reg'!$B$2","v":"SJV"},{"$f":"'Boys Reg'!C10","v":""},{"$f":"'Boys Reg'!D10","v":""},{"$f":"'Boys Reg'!E10","v":""},0,0]
[{"$f":"'Boys Reg'!G9","v":"Nicholas Foy"},{"$f":"'Boys Reg'!$G$2","v":"Ocean"},{"$f":"'Boys Reg'!H9","v":""},{"$f":"'Boys Reg'!I9","v":""},{"$f":"'Boys Reg'!J9","v":""},0,0]
[{"$f":"'Boys Reg'!G10","v":""},{"$f":"'Boys Reg'!$G$2","v":"Ocean"},{"$f":"'Boys Reg'!H10","v":""},{"$f":"'Boys Reg'!I10","v":""},{"$f":"'Boys Reg'!J10","v":""},0,0]
[{"$f":"'Boys Reg'!B19","v":""},{"$f":"'Boys Reg'!$B$12","v":"Keansburg"},{"$f":"'Boys Reg'!C19","v":""},{"$f":"'Boys Reg'!D19","v":""},{"$f":"'Boys Reg'!E19","v":""},0,0]
[{"$f":"'Boys Reg'!B20","v":""},{"$f":"'Boys Reg'!$B$12","v":"Keansburg"},{"$f":"'Boys Reg'!C20","v":""},{"$f":"'Boys Reg'!D20","v":""},{"$f":"'Boys Reg'!E20","v":""},0,0]
[{"$f":"'Boys Reg'!G20","v":""},{"$f":"'Boys Reg'!$G$12","v":"Bayonne"},{"$f":"'Boys Reg'!H20","v":""},{"$f":"'Boys Reg'!I20","v":""},{"$f":"'Boys Reg'!J20","v":""},0,0]
[{"$f":"'Boys Reg'!G30","v":""},{"$f":"'Boys Reg'!$G$22","v":"Henry Hudson"},{"$f":"'Boys Reg'!H30","v":""},{"$f":"'Boys Reg'!I30","v":""},{"$f":"'Boys Reg'!J30","v":""},0,0]
[{"$f":"'Boys Reg'!B38","v":"Hunter Yale"},{"$f":"'Boys Reg'!$B$32","v":"Keyport"},{"$f":"'Boys Reg'!C38","v":""},{"$f":"'Boys Reg'!D38","v":""},{"$f":"'Boys Reg'!E38","v":""},0,0]
[{"$f":"'Boys Reg'!B39","v":"Jake Staeger "},{"$f":"'Boys Reg'!$B$32","v":"Keyport"},{"$f":"'Boys Reg'!C39","v":""},{"$f":"'Boys Reg'!D39","v":""},{"$f":"'Boys Reg'!E39","v":""},0,0]
[{"$f":"'Boys Reg'!B40","v":"Nick Royle"},{"$f":"'Boys Reg'!$B$32","v":"Keyport"},{"$f":"'Boys Reg'!C40","v":""},{"$f":"'Boys Reg'!D40","v":""},{"$f":"'Boys Reg'!E40","v":""},0,0]
[{"$f":"'Boys Reg'!G38","v":"James Luna Vazquez"},{"$f":"'Boys Reg'!$G$32","v":"Roselle"},{"$f":"'Boys Reg'!H38","v":""},{"$f":"'Boys Reg'!I38","v":""},{"$f":"'Boys Reg'!J38","v":""},0,0]
[{"$f":"'Boys Reg'!G39","v":""},{"$f":"'Boys Reg'!$G$32","v":"Roselle"},{"$f":"'Boys Reg'!H39","v":""},{"$f":"'Boys Reg'!I39","v":""},{"$f":"'Boys Reg'!J39","v":""},0,0]
[{"$f":"'Boys Reg'!G40","v":""},{"$f":"'Boys Reg'!$G$32","v":"Roselle"},{"$f":"'Boys Reg'!H40","v":""},{"$f":"'Boys Reg'!I40","v":""},{"$f":"'Boys Reg'!J40","v":""},0,0]
[{"$f":"'Boys Reg'!B48","v":""},{"$f":"'Boys Reg'!$B$42","v":"Mater Dei"},{"$f":"'Boys Reg'!C48","v":""},{"$f":"'Boys Reg'!D48","v":""},{"$f":"'Boys Reg'!E48","v":""},0,0]
[{"$f":"'Boys Reg'!B49","v":""},{"$f":"'Boys Reg'!$B$42","v":"Mater Dei"},{"$f":"'Boys Reg'!C49","v":""},{"$f":"'Boys Reg'!D49","v":""},{"$f":"'Boys Reg'!E49","v":""},0,0]
[{"$f":"'Boys Reg'!B50","v":""},{"$f":"'Boys Reg'!$B$42","v":"Mater Dei"},{"$f":"'Boys Reg'!C50","v":""},{"$f":"'Boys Reg'!D50","v":""},{"$f":"'Boys Reg'!E50","v":""},0,0]
[{"$f":"'Boys Reg'!G49","v":"Sergio Vargas"},{"$f":"'Boys Reg'!$G$42","v":"Lakewood"},{"$f":"'Boys Reg'!H49","v":""},{"$f":"'Boys Reg'!I49","v":""},{"$f":"'Boys Reg'!J49","v":""},0,0]
[{"$f":"'Boys Reg'!G50","v":"Carlos Palafox"},{"$f":"'Boys Reg'!$G$42","v":"Lakewood"},{"$f":"'Boys Reg'!H50","v":""},{"$f":"'Boys Reg'!I50","v":""},{"$f":"'Boys Reg'!J50","v":""},0,0]
[{"$f":"'Boys Reg'!B59","v":""},{"$f":"'Boys Reg'!$B$52","v":"Team 11"},{"$f":"'Boys Reg'!C59","v":""},{"$f":"'Boys Reg'!D59","v":""},{"$f":"'Boys Reg'!E59","v":""},0,0]
[{"$f":"'Boys Reg'!B60","v":""},{"$f":"'Boys Reg'!$B$52","v":"Team 11"},{"$f":"'Boys Reg'!C60","v":""},{"$f":"'Boys Reg'!D60","v":""},{"$f":"'Boys Reg'!E60","v":""},0,0]
[{"$f":"'Boys Reg'!G59","v":""},{"$f":"'Boys Reg'!$G$52","v":"Team 12"},{"$f":"'Boys Reg'!H59","v":""},{"$f":"'Boys Reg'!I59","v":""},{"$f":"'Boys Reg'!J59","v":""},0,0]
[{"$f":"'Boys Reg'!G60","v":""},{"$f":"'Boys Reg'!$G$52","v":"Team 12"},{"$f":"'Boys Reg'!H60","v":""},{"$f":"'Boys Reg'!I60","v":""},{"$f":"'Boys Reg'!J60","v":""},0,0]
[{"$f":"'Boys Reg'!B68","v":""},{"$f":"'Boys Reg'!$B$62","v":"Team 13"},{"$f":"'Boys Reg'!C68","v":""},{"$f":"'Boys Reg'!D68","v":""},{"$f":"'Boys Reg'!E68","v":""},0,0]
[{"$f":"'Boys Reg'!B69","v":""},{"$f":"'Boys Reg'!$B$62","v":"Team 13"},{"$f":"'Boys Reg'!C69","v":""},{"$f":"'Boys Reg'!D69","v":""},{"$f":"'Boys Reg'!E69","v":""},0,0]
[{"$f":"'Boys Reg'!B70","v":""},{"$f":"'Boys Reg'!$B$62","v":"Team 13"},{"$f":"'Boys Reg'!C70","v":""},{"$f":"'Boys Reg'!D70","v":""},{"$f":"'Boys Reg'!E70","v":""},0,0]
[{"$f":"'Boys Reg'!G70","v":""},{"$f":"'Boys Reg'!$G$62","v":"Team 14"},{"$f":"'Boys Reg'!H70","v":""},{"$f":"'Boys Reg'!I70","v":""},{"$f":"'Boys Reg'!J70","v":""},0,0]
[{"$f":"'Boys Reg'!B79","v":""},{"$f":"'Boys Reg'!$B$72","v":"Team 15"},{"$f":"'Boys Reg'!C79","v":""},{"$f":"'Boys Reg'!D79","v":""},{"$f":"'Boys Reg'!E79","v":""},0,0]
[{"$f":"'Boys Reg'!B80","v":""},{"$f":"'Boys Reg'!$B$72","v":"Team 15"},{"$f":"'Boys Reg'!C80","v":""},{"$f":"'Boys Reg'!D80","v":""},{"$f":"'Boys Reg'!E80","v":""},0,0]
[{"$f":"'Boys Reg'!G78","v":""},{"$f":"'Boys Reg'!$G$72","v":"Team 16"},{"$f":"'Boys Reg'!H78","v":""},{"$f":"'Boys Reg'!I78","v":""},{"$f":"'Boys Reg'!J78","v":""},0,0]
[{"$f":"'Boys Reg'!G79","v":""},{"$f":"'Boys Reg'!$G$72","v":"Team 16"},{"$f":"'Boys Reg'!H79","v":""},{"$f":"'Boys Reg'!I79","v":""},{"$f":"'Boys Reg'!J79","v":""},0,0]
[{"$f":"'Boys Reg'!G80","v":""},{"$f":"'Boys Reg'!$G$72","v":"Team 16"},{"$f":"'Boys Reg'!H80","v":""},{"$f":"'Boys Reg'!I80","v":""},{"$f":"'Boys Reg'!J80","v":""},0,0]
[{"$f":"'Boys Reg'!B88","v":""},{"$f":"'Boys Reg'!$B$82","v":"Team 17"},{"$f":"'Boys Reg'!C88","v":""},{"$f":"'Boys Reg'!D88","v":""},{"$f":"'Boys Reg'!E88","v":""},0,0]
[{"$f":"'Boys Reg'!B89","v":""},{"$f":"'Boys Reg'!$B$82","v":"Team 17"},{"$f":"'Boys Reg'!C89","v":""},{"$f":"'Boys Reg'!D89","v":""},{"$f":"'Boys Reg'!E89","v":""},0,0]
[{"$f":"'Boys Reg'!B90","v":""},{"$f":"'Boys Reg'!$B$82","v":"Team 17"},{"$f":"'Boys Reg'!C90","v":""},{"$f":"'Boys Reg'!D90","v":""},{"$f":"'Boys Reg'!E90","v":""},0,0]
[{"$f":"'Boys Reg'!G88","v":""},{"$f":"'Boys Reg'!$G$82","v":"Team 18"},{"$f":"'Boys Reg'!H88","v":""},{"$f":"'Boys Reg'!I88","v":""},{"$f":"'Boys Reg'!J88","v":""},0,0]
[{"$f":"'Boys Reg'!G89","v":""},{"$f":"'Boys Reg'!$G$82","v":"Team 18"},{"$f":"'Boys Reg'!H89","v":""},{"$f":"'Boys Reg'!I89","v":""},{"$f":"'Boys Reg'!J89","v":""},0,0]
[{"$f":"'Boys Reg'!G90","v":""},{"$f":"'Boys Reg'!$G$82","v":"Team 18"},{"$f":"'Boys Reg'!H90","v":""},{"$f":"'Boys Reg'!I90","v":""},{"$f":"'Boys Reg'!J90","v":""},0,0]

{"sheet":"Boys Totals","index":3,"n_rows":19,"n_cols":7,"rows_kept":19,"cut":false,"hidden":false,"merged":[]}
["Place","School","Game 1","Game 2","Sub","Game 3","Total"]
[1.0,{"$f":"'Boys Reg'!$G$2","v":"Ocean"},{"$f":"'Boys Reg'!H11","v":1004},{"$f":"'Boys Reg'!I11","v":820},{"$f":"SUM(C2:D2)","v":1824},{"$f":"'Boys Reg'!$J$11","v":827},{"$f":"SUM(E2:F2)","v":2651}]
[2.0,{"$f":"'Boys Reg'!$G$32","v":"Roselle"},{"$f":"'Boys Reg'!H41","v":788},{"$f":"'Boys Reg'!I41","v":871},1659,{"$f":"'Boys Reg'!$J$41","v":872},2531]
[3.0,{"$f":"'Boys Reg'!$G$12","v":"Bayonne"},{"$f":"'Boys Reg'!H21","v":752},{"$f":"'Boys Reg'!I21","v":913},1665,{"$f":"'Boys Reg'!$J$21","v":814},2479]
[4.0,{"$f":"'Boys Reg'!$B$2","v":"SJV"},{"$f":"'Boys Reg'!C11","v":705},{"$f":"'Boys Reg'!D11","v":716},1421,{"$f":"'Boys Reg'!$E$11","v":740},2161]
[5.0,{"$f":"'Boys Reg'!$B$12","v":"Keansburg"},{"$f":"'Boys Reg'!C21","v":740},{"$f":"'Boys Reg'!D21","v":686},1426,{"$f":"'Boys Reg'!$E$21","v":723},2149]
[6.0,{"$f":"'Boys Reg'!$G$22","v":"Henry Hudson"},{"$f":"'Boys Reg'!H31","v":630},{"$f":"'Boys Reg'!I31","v":735},1365,{"$f":"'Boys Reg'!$J$31","v":783},2148]
[7.0,{"$f":"'Boys Reg'!$B$22","v":"Matawan"},{"$f":"'Boys Reg'!C31","v":722},{"$f":"'Boys Reg'!D31","v":642},1364,{"$f":"'Boys Reg'!$E$31","v":710},2074]
[8.0,{"$f":"'Boys Reg'!$G$42","v":"Lakewood"},{"$f":"'Boys Reg'!H51","v":585},{"$f":"'Boys Reg'!I51","v":621},1206,{"$f":"'Boys Reg'!$J$51","v":565},1771]
[9.0,{"$f":"'Boys Reg'!$B$42","v":"Mater Dei"},{"$f":"'Boys Reg'!C51","v":521},{"$f":"'Boys Reg'!D51","v":596},1117,{"$f":"'Boys Reg'!$E$51","v":584},1701]
[10.0,{"$f":"'Boys Reg'!$B$32","v":"Keyport"},{"$f":"'Boys Reg'!C41","v":532},{"$f":"'Boys Reg'!D41","v":561},1093,{"$f":"'Boys Reg'!$E$41","v":546},1639]
[11.0,{"$f":"'Boys Reg'!$B$62","v":"Team 13"},{"$f":"'Boys Reg'!C71","v":0},{"$f":"'Boys Reg'!D71","v":0},0,{"$f":"'Boys Reg'!$E$71","v":0},0]
[12.0,{"$f":"'Boys Reg'!$B$52","v":"Team 11"},{"$f":"'Boys Reg'!C61","v":0},{"$f":"'Boys Reg'!D61","v":0},0,{"$f":"'Boys Reg'!$E$61","v":0},0]
[13.0,{"$f":"'Boys Reg'!$G$52","v":"Team 12"},{"$f":"'Boys Reg'!H61","v":0},{"$f":"'Boys Reg'!I61","v":0},0,{"$f":"'Boys Reg'!$J$61","v":0},0]
[null,{"$f":"'Boys Reg'!$B$82","v":"Team 17"},{"$f":"'Boys Reg'!C91","v":0},{"$f":"'Boys Reg'!D91","v":0},0,{"$f":"'Boys Reg'!$E$91","v":0},0]
[null,{"$f":"'Boys Reg'!$G$72","v":"Team 16"},{"$f":"'Boys Reg'!H81","v":0},{"$f":"'Boys Reg'!I81","v":0},0,{"$f":"'Boys Reg'!$J$81","v":0},0]
[null,{"$f":"'Boys Reg'!$B$72","v":"Team 15"},{"$f":"'Boys Reg'!C81","v":0},{"$f":"'Boys Reg'!D81","v":0},0,{"$f":"'Boys Reg'!$E$81","v":0},0]
[null,{"$f":"'Boys Reg'!$G$82","v":"Team 18"},{"$f":"'Boys Reg'!H91","v":0},{"$f":"'Boys Reg'!I91","v":0},0,{"$f":"'Boys Reg'!$J$91","v":0},0]
[null,{"$f":"'Boys Reg'!$G$62","v":"Team 14"},{"$f":"'Boys Reg'!H71","v":0},{"$f":"'Boys Reg'!I71","v":0},0,{"$f":"'Boys Reg'!$J$71","v":0},0]

{"sheet":"Girls Reg","index":4,"n_rows":81,"n_cols":10,"rows_kept":81,"cut":false,"hidden":false,"merged":[]}
["Team","School/Bowlers","Game 1","Game 2","Game 3","Team","School/Bowlers","Game 1","Game 2","Game 3"]
[1.0,"Henry Hudson",null,null,null,2.0,"Lakewood"]
[null,"Alina Souza",92.0,64.0,74.0,null,"Yoselyn Montes",95.0,130.0,105.0]
[null,"Orianna Nolan",111.0,109.0,94.0,null,"Amelia Martinez",80.0,82.0]
[null,"Julia Rockafellow",84.0,87.0,90.0,null,"Doreley Ruiz",116.0,86.0,102.0]
[null,"Claire Dodge",84.0,116.0,90.0,null,"Maria Huerta",77.0]
[null,"Makayla Roberts",124.0,129.0,127.0,null,"Luz Torres",135.0,152.0,119.0]
[{"$nulls":6},"Daniela Cualutle",null,null,65.0]
[{"$nulls":6},"Areli Valencia",null,108.0,80.0]
[{"$nulls":6},"Giselle Martinez"]
[null,"Total",{"$f":"SUM(C2:C10)","v":495},505,475,null,"Total",{"$f":"SUM(H2:H10)","v":503},558,471]
[3.0,"SJV",null,null,null,4.0,"Ocean"]
[null,"Maggie Irizarry",94.0,139.0,96.0,null,"Nora Abdelaziz",131.0,138.0,126.0]
[null,"Catherine O'Grady",87.0,107.0,141.0,null,"Jazmia Ortiz",111.0,124.0,147.0]
[null,"Mary McAvoy",126.0,148.0,91.0,null,"Erin Golej",79.0,107.0,109.0]
[null,"Caylei Hoffman",186.0,168.0,222.0,null,"Chrissy Cundiff",107.0,119.0,172.0]
[null,"Eliabeth Brogna",168.0,156.0,155.0,null,"Casey Russomano",171.0,182.0,151.0]
[{"$nulls":6},"Zoe Konow"]
[{"$nulls":6},"McKenzie Rainford"]
[]
[null,"Total",{"$f":"SUM(C12:C20)","v":661},718,705,null,"Total",{"$f":"SUM(H12:H20)","v":599},670,705]
[5.0,"Keansburg",null,null,null,6.0,"Bayonne"]
[null,"Amy Cieslik",114.0,104.0,112.0,null,"Lecia Williams",126.0,101.0,118.0]
[null,"Claire Brogan",104.0,73.0,60.0,null,"Jenimya Holley",61.0,68.0,82.0]
[null,"Ariella Zambrano",77.0,85.0,91.0,null,"Jenna Jozwiak",65.0,53.0,58.0]
[null,"Rebecca Kain",134.0,144.0,126.0,null,"Brianne Peralta",149.0,120.0,81.0]
[null,"Emily Frizell",173.0,144.0,138.0,null,"Victoria Cass",95.0,102.0,113.0]
[]
[]
[]
[null,"Total",{"$f":"SUM(C22:C30)","v":602},550,527,null,"Total",{"$f":"SUM(H22:H30)","v":496},444,452]
[7.0,"Matawan",null,null,null,8.0,"Middletown North"]
[null,"Faith Smith",165.0,222.0,195.0,null,"Ashley Guglielmo",189.0,132.0,140.0]
[null,"Kaitlyn Knover",148.0,154.0,120.0,null,"Brenna Trevett",132.0,120.0,137.0]
[null,"Katie Devoe",178.0,155.0,174.0,null,"Taylor Hanser",136.0,154.0,118.0]
[null,"Kiernan McShane",237.0,112.0,133.0,null,"Victora Trigg",149.0,177.0,139.0]
[null,"Laura McConnon",167.0,204.0,148.0,null,"Dakota Zadroga",118.0,171.0,172.0]
[{"$nulls":6},"Faith Coll"]
[{"$nulls":6},"Sara Welsh"]
[{"$nulls":6},"Justice Buonsante"]
[null,"Total",{"$f":"SUM(C32:C40)","v":895},847,770,null,"Total",{"$f":"SUM(H32:H40)","v":724},754,706]
[9.0,"Keyport",null,null,null,10.0,"Roselle"]
[null,"Madison Reynolds",147.0,121.0,110.0,null,"Karla Torres",92.0,78.0,123.0]
[null,"Madelyn Yale",127.0,148.0,118.0,null,"Alexis Staten",117.0,118.0,74.0]
[null,"Chelsea Geyer",114.0,128.0,116.0,null,"Eamy Moluna",123.0,126.0,123.0]
[null,"Kimberly Kutschman",189.0,179.0,150.0,null,"Synai Murray",57.0,90.0,94.0]
[null,"Emma Grabowski",144.0,131.0,148.0,null,"Daniela Villacorta",92.0,116.0,102.0]
[null,"Jessica Argentina"]
[]
[]
[null,"Total",{"$f":"SUM(C42:C50)","v":721},707,642,null,"Total",{"$f":"SUM(H42:H50)","v":481},528,516]
[11.0,{"$nulls":4},12.0]
{"$rows_empty":8}
[null,"Total",{"$f":"SUM(C52:C60)","v":0},0,0,null,"Total",{"$f":"SUM(H52:H60)","v":0},0,0]
[13.0,{"$nulls":4},14.0]
{"$rows_empty":8}
[null,"Total",{"$f":"SUM(C62:C70)","v":0},0,0,null,"Total",{"$f":"SUM(H62:H70)","v":0},0,0]
[15.0,{"$nulls":4},16.0]
{"$rows_empty":8}
[null,"Total",{"$f":"SUM(C72:C80)","v":0},0,0,null,"Total",{"$f":"SUM(H72:H80)","v":0},0,0]

{"sheet":"Girls Ind. High Game","index":5,"n_rows":129,"n_cols":7,"rows_kept":129,"cut":false,"hidden":false,"merged":[]}
["Name","School","Game 1","Game 2","Game 3","Series","High Game"]
[{"$f":"'Girls Reg'!B36","v":"Kiernan McShane"},{"$f":"'Girls Reg'!$B$32","v":"Matawan"},{"$f":"'Girls Reg'!C36","v":237},{"$f":"'Girls Reg'!D36","v":112},{"$f":"'Girls Reg'!E36","v":133},{"$f":"SUM(C2:E2)","v":482},{"$f":"MAX(C2:E2)","v":237}]
[{"$f":"'Girls Reg'!B33","v":"Faith Smith"},{"$f":"'Girls Reg'!$B$32","v":"Matawan"},{"$f":"'Girls Reg'!C33","v":165},{"$f":"'Girls Reg'!D33","v":222},{"$f":"'Girls Reg'!E33","v":195},582,222]
[{"$f":"'Girls Reg'!B16","v":"Caylei Hoffman"},{"$f":"'Girls Reg'!$B$12","v":"SJV"},{"$f":"'Girls Reg'!C16","v":186},{"$f":"'Girls Reg'!D16","v":168},{"$f":"'Girls Reg'!E16","v":222},576,222]
[{"$f":"'Girls Reg'!B37","v":"Laura McConnon"},{"$f":"'Girls Reg'!$B$32","v":"Matawan"},{"$f":"'Girls Reg'!C37","v":167},{"$f":"'Girls Reg'!D37","v":204},{"$f":"'Girls Reg'!E37","v":148},519,204]
[{"$f":"'Girls Reg'!B46","v":"Kimberly Kutschman"},{"$f":"'Girls Reg'!$B$42","v":"Keyport"},{"$f":"'Girls Reg'!C46","v":189},{"$f":"'Girls Reg'!D46","v":179},{"$f":"'Girls Reg'!E46","v":150},518,189]
[{"$f":"'Girls Reg'!G33","v":"Ashley Guglielmo"},{"$f":"'Girls Reg'!$G$32","v":"Middletown North"},{"$f":"'Girls Reg'!H33","v":189},{"$f":"'Girls Reg'!I33","v":132},{"$f":"'Girls Reg'!J33","v":140},461,189]
[{"$f":"'Girls Reg'!G17","v":"Casey Russomano"},{"$f":"'Girls Reg'!$G$12","v":"Ocean"},{"$f":"'Girls Reg'!H17","v":171},{"$f":"'Girls Reg'!I17","v":182},{"$f":"'Girls Reg'!J17","v":151},504,182]
[{"$f":"'Girls Reg'!B35","v":"Katie Devoe"},{"$f":"'Girls Reg'!$B$32","v":"Matawan"},{"$f":"'Girls Reg'!C35","v":178},{"$f":"'Girls Reg'!D35","v":155},{"$f":"'Girls Reg'!E35","v":174},507,178]
[{"$f":"'Girls Reg'!G36","v":"Victora Trigg"},{"$f":"'Girls Reg'!$G$32","v":"Middletown North"},{"$f":"'Girls Reg'!H36","v":149},{"$f":"'Girls Reg'!I36","v":177},{"$f":"'Girls Reg'!J36","v":139},465,177]
[{"$f":"'Girls Reg'!B27","v":"Emily Frizell"},{"$f":"'Girls Reg'!$B$22","v":"Keansburg"},{"$f":"'Girls Reg'!C27","v":173},{"$f":"'Girls Reg'!D27","v":144},{"$f":"'Girls Reg'!E27","v":138},455,173]
[{"$f":"'Girls Reg'!G37","v":"Dakota Zadroga"},{"$f":"'Girls Reg'!$G$32","v":"Middletown North"},{"$f":"'Girls Reg'!H37","v":118},{"$f":"'Girls Reg'!I37","v":171},{"$f":"'Girls Reg'!J37","v":172},461,172]
[{"$f":"'Girls Reg'!G16","v":"Chrissy Cundiff"},{"$f":"'Girls Reg'!$G$12","v":"Ocean"},{"$f":"'Girls Reg'!H16","v":107},{"$f":"'Girls Reg'!I16","v":119},{"$f":"'Girls Reg'!J16","v":172},398,172]
[{"$f":"'Girls Reg'!B17","v":"Eliabeth Brogna"},{"$f":"'Girls Reg'!$B$12","v":"SJV"},{"$f":"'Girls Reg'!C17","v":168},{"$f":"'Girls Reg'!D17","v":156},{"$f":"'Girls Reg'!E17","v":155},479,168]
[{"$f":"'Girls Reg'!B34","v":"Kaitlyn Knover"},{"$f":"'Girls Reg'!$B$32","v":"Matawan"},{"$f":"'Girls Reg'!C34","v":148},{"$f":"'Girls Reg'!D34","v":154},{"$f":"'Girls Reg'!E34","v":120},422,154]
[{"$f":"'Girls Reg'!G35","v":"Taylor Hanser"},{"$f":"'Girls Reg'!$G$32","v":"Middletown North"},{"$f":"'Girls Reg'!H35","v":136},{"$f":"'Girls Reg'!I35","v":154},{"$f":"'Girls Reg'!J35","v":118},408,154]
[{"$f":"'Girls Reg'!G7","v":"Luz Torres"},{"$f":"'Girls Reg'!$G$2","v":"Lakewood"},{"$f":"'Girls Reg'!H7","v":135},{"$f":"'Girls Reg'!I7","v":152},{"$f":"'Girls Reg'!J7","v":119},406,152]
[{"$f":"'Girls Reg'!G26","v":"Brianne Peralta"},{"$f":"'Girls Reg'!$G$22","v":"Bayonne"},{"$f":"'Girls Reg'!H26","v":149},{"$f":"'Girls Reg'!I26","v":120},{"$f":"'Girls Reg'!J26","v":81},350,149]
[{"$f":"'Girls Reg'!B44","v":"Madelyn Yale"},{"$f":"'Girls Reg'!$B$42","v":"Keyport"},{"$f":"'Girls Reg'!C44","v":127},{"$f":"'Girls Reg'!D44","v":148},{"$f":"'Girls Reg'!E44","v":118},393,148]
[{"$f":"'Girls Reg'!B47","v":"Emma Grabowski"},{"$f":"'Girls Reg'!$B$42","v":"Keyport"},{"$f":"'Girls Reg'!C47","v":144},{"$f":"'Girls Reg'!D47","v":131},{"$f":"'Girls Reg'!E47","v":148},423,148]
[{"$f":"'Girls Reg'!B15","v":"Mary McAvoy"},{"$f":"'Girls Reg'!$B$12","v":"SJV"},{"$f":"'Girls Reg'!C15","v":126},{"$f":"'Girls Reg'!D15","v":148},{"$f":"'Girls Reg'!E15","v":91},365,148]
[{"$f":"'Girls Reg'!B43","v":"Madison Reynolds"},{"$f":"'Girls Reg'!$B$42","v":"Keyport"},{"$f":"'Girls Reg'!C43","v":147},{"$f":"'Girls Reg'!D43","v":121},{"$f":"'Girls Reg'!E43","v":110},378,147]
[{"$f":"'Girls Reg'!G14","v":"Jazmia Ortiz"},{"$f":"'Girls Reg'!$G$12","v":"Ocean"},{"$f":"'Girls Reg'!H14","v":111},{"$f":"'Girls Reg'!I14","v":124},{"$f":"'Girls Reg'!J14","v":147},382,147]
[{"$f":"'Girls Reg'!B26","v":"Rebecca Kain"},{"$f":"'Girls Reg'!$B$22","v":"Keansburg"},{"$f":"'Girls Reg'!C26","v":134},{"$f":"'Girls Reg'!D26","v":144},{"$f":"'Girls Reg'!E26","v":126},404,144]
[{"$f":"'Girls Reg'!B14","v":"Catherine O'Grady"},{"$f":"'Girls Reg'!$B$12","v":"SJV"},{"$f":"'Girls Reg'!C14","v":87},{"$f":"'Girls Reg'!D14","v":107},{"$f":"'Girls Reg'!E14","v":141},335,141]
[{"$f":"'Girls Reg'!B13","v":"Maggie Irizarry"},{"$f":"'Girls Reg'!$B$12","v":"SJV"},{"$f":"'Girls Reg'!C13","v":94},{"$f":"'Girls Reg'!D13","v":139},{"$f":"'Girls Reg'!E13","v":96},329,139]
[{"$f":"'Girls Reg'!G13","v":"Nora Abdelaziz"},{"$f":"'Girls Reg'!$G$12","v":"Ocean"},{"$f":"'Girls Reg'!H13","v":131},{"$f":"'Girls Reg'!I13","v":138},{"$f":"'Girls Reg'!J13","v":126},395,138]
[{"$f":"'Girls Reg'!G34","v":"Brenna Trevett"},{"$f":"'Girls Reg'!$G$32","v":"Middletown North"},{"$f":"'Girls Reg'!H34","v":132},{"$f":"'Girls Reg'!I34","v":120},{"$f":"'Girls Reg'!J34","v":137},389,137]
[{"$f":"'Girls Reg'!G3","v":"Yoselyn Montes"},{"$f":"'Girls Reg'!$G$2","v":"Lakewood"},{"$f":"'Girls Reg'!H3","v":95},{"$f":"'Girls Reg'!I3","v":130},{"$f":"'Girls Reg'!J3","v":105},330,130]
[{"$f":"'Girls Reg'!B7","v":"Makayla Roberts"},{"$f":"'Girls Reg'!$B$2","v":"Henry Hudson"},{"$f":"'Girls Reg'!C7","v":124},{"$f":"'Girls Reg'!D7","v":129},{"$f":"'Girls Reg'!E7","v":127},380,129]
[{"$f":"'Girls Reg'!B45","v":"Chelsea Geyer"},{"$f":"'Girls Reg'!$B$42","v":"Keyport"},{"$f":"'Girls Reg'!C45","v":114},{"$f":"'Girls Reg'!D45","v":128},{"$f":"'Girls Reg'!E45","v":116},358,128]
[{"$f":"'Girls Reg'!G23","v":"Lecia Williams"},{"$f":"'Girls Reg'!$G$22","v":"Bayonne"},{"$f":"'Girls Reg'!H23","v":126},{"$f":"'Girls Reg'!I23","v":101},{"$f":"'Girls Reg'!J23","v":118},345,126]
[{"$f":"'Girls Reg'!G45","v":"Eamy Moluna"},{"$f":"'Girls Reg'!$G$42","v":"Roselle"},{"$f":"'Girls Reg'!H45","v":123},{"$f":"'Girls Reg'!I45","v":126},{"$f":"'Girls Reg'!J45","v":123},372,126]
[{"$f":"'Girls Reg'!G43","v":"Karla Torres"},{"$f":"'Girls Reg'!$G$42","v":"Roselle"},{"$f":"'Girls Reg'!H43","v":92},{"$f":"'Girls Reg'!I43","v":78},{"$f":"'Girls Reg'!J43","v":123},293,123]
[{"$f":"'Girls Reg'!G44","v":"Alexis Staten"},{"$f":"'Girls Reg'!$G$42","v":"Roselle"},{"$f":"'Girls Reg'!H44","v":117},{"$f":"'Girls Reg'!I44","v":118},{"$f":"'Girls Reg'!J44","v":74},309,118]
[{"$f":"'Girls Reg'!G5","v":"Doreley Ruiz"},{"$f":"'Girls Reg'!$G$2","v":"Lakewood"},{"$f":"'Girls Reg'!H5","v":116},{"$f":"'Girls Reg'!I5","v":86},{"$f":"'Girls Reg'!J5","v":102},304,116]
[{"$f":"'Girls Reg'!G47","v":"Daniela Villacorta"},{"$f":"'Girls Reg'!$G$42","v":"Roselle"},{"$f":"'Girls Reg'!H47","v":92},{"$f":"'Girls Reg'!I47","v":116},{"$f":"'Girls Reg'!J47","v":102},310,116]
[{"$f":"'Girls Reg'!B6","v":"Claire Dodge"},{"$f":"'Girls Reg'!$B$2","v":"Henry Hudson"},{"$f":"'Girls Reg'!C6","v":84},{"$f":"'Girls Reg'!D6","v":116},{"$f":"'Girls Reg'!E6","v":90},290,116]
[{"$f":"'Girls Reg'!B23","v":"Amy Cieslik"},{"$f":"'Girls Reg'!$B$22","v":"Keansburg"},{"$f":"'Girls Reg'!C23","v":114},{"$f":"'Girls Reg'!D23","v":104},{"$f":"'Girls Reg'!E23","v":112},330,114]
[{"$f":"'Girls Reg'!G27","v":"Victoria Cass"},{"$f":"'Girls Reg'!$G$22","v":"Bayonne"},{"$f":"'Girls Reg'!H27","v":95},{"$f":"'Girls Reg'!I27","v":102},{"$f":"'Girls Reg'!J27","v":113},310,113]
[{"$f":"'Girls Reg'!B4","v":"Orianna Nolan"},{"$f":"'Girls Reg'!$B$2","v":"Henry Hudson"},{"$f":"'Girls Reg'!C4","v":111},{"$f":"'Girls Reg'!D4","v":109},{"$f":"'Girls Reg'!E4","v":94},314,111]
[{"$f":"'Girls Reg'!G15","v":"Erin Golej"},{"$f":"'Girls Reg'!$G$12","v":"Ocean"},{"$f":"'Girls Reg'!H15","v":79},{"$f":"'Girls Reg'!I15","v":107},{"$f":"'Girls Reg'!J15","v":109},295,109]
[{"$f":"'Girls Reg'!G9","v":"Areli Valencia"},{"$f":"'Girls Reg'!$G$2","v":"Lakewood"},{"$f":"'Girls Reg'!H9","v":""},{"$f":"'Girls Reg'!I9","v":108},{"$f":"'Girls Reg'!J9","v":80},188,108]
[{"$f":"'Girls Reg'!B24","v":"Claire Brogan"},{"$f":"'Girls Reg'!$B$22","v":"Keansburg"},{"$f":"'Girls Reg'!C24","v":104},{"$f":"'Girls Reg'!D24","v":73},{"$f":"'Girls Reg'!E24","v":60},237,104]
[{"$f":"'Girls Reg'!G46","v":"Synai Murray"},{"$f":"'Girls Reg'!$G$42","v":"Roselle"},{"$f":"'Girls Reg'!H46","v":57},{"$f":"'Girls Reg'!I46","v":90},{"$f":"'Girls Reg'!J46","v":94},241,94]
[{"$f":"'Girls Reg'!B3","v":"Alina Souza"},{"$f":"'Girls Reg'!$B$2","v":"Henry Hudson"},{"$f":"'Girls Reg'!C3","v":92},{"$f":"'Girls Reg'!D3","v":64},{"$f":"'Girls Reg'!E3","v":74},230,92]
[{"$f":"'Girls Reg'!B25","v":"Ariella Zambrano"},{"$f":"'Girls Reg'!$B$22","v":"Keansburg"},{"$f":"'Girls Reg'!C25","v":77},{"$f":"'Girls Reg'!D25","v":85},{"$f":"'Girls Reg'!E25","v":91},253,91]
[{"$f":"'Girls Reg'!B5","v":"Julia Rockafellow"},{"$f":"'Girls Reg'!$B$2","v":"Henry Hudson"},{"$f":"'Girls Reg'!C5","v":84},{"$f":"'Girls Reg'!D5","v":87},{"$f":"'Girls Reg'!E5","v":90},261,90]
[{"$f":"'Girls Reg'!G4","v":"Amelia Martinez"},{"$f":"'Girls Reg'!$G$2","v":"Lakewood"},{"$f":"'Girls Reg'!H4","v":80},{"$f":"'Girls Reg'!I4","v":82},{"$f":"'Girls Reg'!J4","v":""},162,82]
[{"$f":"'Girls Reg'!G24","v":"Jenimya Holley"},{"$f":"'Girls Reg'!$G$22","v":"Bayonne"},{"$f":"'Girls Reg'!H24","v":61},{"$f":"'Girls Reg'!I24","v":68},{"$f":"'Girls Reg'!J24","v":82},211,82]
[{"$f":"'Girls Reg'!G6","v":"Maria Huerta"},{"$f":"'Girls Reg'!$G$2","v":"Lakewood"},{"$f":"'Girls Reg'!H6","v":77},{"$f":"'Girls Reg'!I6","v":""},{"$f":"'Girls Reg'!J6","v":""},77,77]
[{"$f":"'Girls Reg'!G25","v":"Jenna Jozwiak"},{"$f":"'Girls Reg'!$G$22","v":"Bayonne"},{"$f":"'Girls Reg'!H25","v":65},{"$f":"'Girls Reg'!I25","v":53},{"$f":"'Girls Reg'!J25","v":58},176,65]
[{"$f":"'Girls Reg'!G8","v":"Daniela Cualutle"},{"$f":"'Girls Reg'!$G$2","v":"Lakewood"},{"$f":"'Girls Reg'!H8","v":""},{"$f":"'Girls Reg'!I8","v":""},{"$f":"'Girls Reg'!J8","v":65},65,65]
[{"$f":"'Girls Reg'!G29","v":""},{"$f":"'Girls Reg'!$G$22","v":"Bayonne"},{"$f":"'Girls Reg'!H29","v":""},{"$f":"'Girls Reg'!I29","v":""},{"$f":"'Girls Reg'!J29","v":""},0,0]
[{"$f":"'Girls Reg'!G38","v":"Faith Coll"},{"$f":"'Girls Reg'!$G$32","v":"Middletown North"},{"$f":"'Girls Reg'!H38","v":""},{"$f":"'Girls Reg'!I38","v":""},{"$f":"'Girls Reg'!J38","v":""},0,0]
[{"$f":"'Girls Reg'!B38","v":""},{"$f":"'Girls Reg'!$B$32","v":"Matawan"},{"$f":"'Girls Reg'!C38","v":""},{"$f":"'Girls Reg'!D38","v":""},{"$f":"'Girls Reg'!E38","v":""},0,0]
[{"$f":"'Girls Reg'!B48","v":"Jessica Argentina"},{"$f":"'Girls Reg'!$B$42","v":"Keyport"},{"$f":"'Girls Reg'!C48","v":""},{"$f":"'Girls Reg'!D48","v":""},{"$f":"'Girls Reg'!E48","v":""},0,0]
[{"$f":"'Girls Reg'!B8","v":""},{"$f":"'Girls Reg'!$B$2","v":"Henry Hudson"},{"$f":"'Girls Reg'!C8","v":""},{"$f":"'Girls Reg'!D8","v":""},{"$f":"'Girls Reg'!E8","v":""},0,0]
[{"$f":"'Girls Reg'!G28","v":""},{"$f":"'Girls Reg'!$G$22","v":"Bayonne"},{"$f":"'Girls Reg'!H28","v":""},{"$f":"'Girls Reg'!I28","v":""},{"$f":"'Girls Reg'!J28","v":""},0,0]
[{"$f":"'Girls Reg'!G48","v":""},{"$f":"'Girls Reg'!$G$42","v":"Roselle"},{"$f":"'Girls Reg'!H48","v":""},{"$f":"'Girls Reg'!I48","v":""},{"$f":"'Girls Reg'!J48","v":""},0,0]
[{"$f":"'Girls Reg'!G49","v":""},{"$f":"'Girls Reg'!$G$42","v":"Roselle"},{"$f":"'Girls Reg'!H49","v":""},{"$f":"'Girls Reg'!I49","v":""},{"$f":"'Girls Reg'!J49","v":""},0,0]
[{"$f":"'Girls Reg'!G50","v":""},{"$f":"'Girls Reg'!$G$42","v":"Roselle"},{"$f":"'Girls Reg'!H50","v":""},{"$f":"'Girls Reg'!I50","v":""},{"$f":"'Girls Reg'!J50","v":""},0,0]
[{"$f":"'Girls Reg'!B49","v":""},{"$f":"'Girls Reg'!$B$42","v":"Keyport"},{"$f":"'Girls Reg'!C49","v":""},{"$f":"'Girls Reg'!D49","v":""},{"$f":"'Girls Reg'!E49","v":""},0,0]
[{"$f":"'Girls Reg'!B50","v":""},{"$f":"'Girls Reg'!$B$42","v":"Keyport"},{"$f":"'Girls Reg'!C50","v":""},{"$f":"'Girls Reg'!D50","v":""},{"$f":"'Girls Reg'!E50","v":""},0,0]
[{"$f":"'Girls Reg'!B39","v":""},{"$f":"'Girls Reg'!$B$32","v":"Matawan"},{"$f":"'Girls Reg'!C39","v":""},{"$f":"'Girls Reg'!D39","v":""},{"$f":"'Girls Reg'!E39","v":""},0,0]
[{"$f":"'Girls Reg'!B40","v":""},{"$f":"'Girls Reg'!$B$32","v":"Matawan"},{"$f":"'Girls Reg'!C40","v":""},{"$f":"'Girls Reg'!D40","v":""},{"$f":"'Girls Reg'!E40","v":""},0,0]
[{"$f":"'Girls Reg'!G30","v":""},{"$f":"'Girls Reg'!$G$22","v":"Bayonne"},{"$f":"'Girls Reg'!H30","v":""},{"$f":"'Girls Reg'!I30","v":""},{"$f":"'Girls Reg'!J30","v":""},0,0]
[{"$f":"'Girls Reg'!B28","v":""},{"$f":"'Girls Reg'!$B$22","v":"Keansburg"},{"$f":"'Girls Reg'!C28","v":""},{"$f":"'Girls Reg'!D28","v":""},{"$f":"'Girls Reg'!E28","v":""},0,0]
[{"$f":"'Girls Reg'!B29","v":""},{"$f":"'Girls Reg'!$B$22","v":"Keansburg"},{"$f":"'Girls Reg'!C29","v":""},{"$f":"'Girls Reg'!D29","v":""},{"$f":"'Girls Reg'!E29","v":""},0,0]
[{"$f":"'Girls Reg'!B30","v":""},{"$f":"'Girls Reg'!$B$22","v":"Keansburg"},{"$f":"'Girls Reg'!C30","v":""},{"$f":"'Girls Reg'!D30","v":""},{"$f":"'Girls Reg'!E30","v":""},0,0]
[{"$f":"'Girls Reg'!G18","v":"Zoe Konow"},{"$f":"'Girls Reg'!$G$12","v":"Ocean"},{"$f":"'Girls Reg'!H18","v":""},{"$f":"'Girls Reg'!I18","v":""},{"$f":"'Girls Reg'!J18","v":""},0,0]
[{"$f":"'Girls Reg'!G19","v":"McKenzie Rainford"},{"$f":"'Girls Reg'!$G$12","v":"Ocean"},{"$f":"'Girls Reg'!H19","v":""},{"$f":"'Girls Reg'!I19","v":""},{"$f":"'Girls Reg'!J19","v":""},0,0]
[{"$f":"'Girls Reg'!G20","v":""},{"$f":"'Girls Reg'!$G$12","v":"Ocean"},{"$f":"'Girls Reg'!H20","v":""},{"$f":"'Girls Reg'!I20","v":""},{"$f":"'Girls Reg'!J20","v":""},0,0]
[{"$f":"'Girls Reg'!B18","v":""},{"$f":"'Girls Reg'!$B$12","v":"SJV"},{"$f":"'Girls Reg'!C18","v":""},{"$f":"'Girls Reg'!D18","v":""},{"$f":"'Girls Reg'!E18","v":""},0,0]
[{"$f":"'Girls Reg'!B19","v":""},{"$f":"'Girls Reg'!$B$12","v":"SJV"},{"$f":"'Girls Reg'!C19","v":""},{"$f":"'Girls Reg'!D19","v":""},{"$f":"'Girls Reg'!E19","v":""},0,0]
[{"$f":"'Girls Reg'!B20","v":""},{"$f":"'Girls Reg'!$B$12","v":"SJV"},{"$f":"'Girls Reg'!C20","v":""},{"$f":"'Girls Reg'!D20","v":""},{"$f":"'Girls Reg'!E20","v":""},0,0]
[{"$f":"'Girls Reg'!G10","v":"Giselle Martinez"},{"$f":"'Girls Reg'!$G$2","v":"Lakewood"},{"$f":"'Girls Reg'!H10","v":""},{"$f":"'Girls Reg'!I10","v":""},{"$f":"'Girls Reg'!J10","v":""},0,0]
[{"$f":"'Girls Reg'!B9","v":""},{"$f":"'Girls Reg'!$B$2","v":"Henry Hudson"},{"$f":"'Girls Reg'!C9","v":""},{"$f":"'Girls Reg'!D9","v":""},{"$f":"'Girls Reg'!E9","v":""},0,0]
[{"$f":"'Girls Reg'!B10","v":""},{"$f":"'Girls Reg'!$B$2","v":"Henry Hudson"},{"$f":"'Girls Reg'!C10","v":""},{"$f":"'Girls Reg'!D10","v":""},{"$f":"'Girls Reg'!E10","v":""},0,0]
[{"$f":"'Girls Reg'!G39","v":"Sara Welsh"},{"$f":"'Girls Reg'!$G$32","v":"Middletown North"},{"$f":"'Girls Reg'!H39","v":""},{"$f":"'Girls Reg'!I39","v":""},{"$f":"'Girls Reg'!J39","v":""},0,0]
[{"$f":"'Girls Reg'!G40","v":"Justice Buonsante"},{"$f":"'Girls Reg'!$G$32","v":"Middletown North"},{"$f":"'Girls Reg'!H40","v":""},{"$f":"'Girls Reg'!I40","v":""},{"$f":"'Girls Reg'!J40","v":""},0,0]
[{"$f":"'Girls Reg'!G63","v":""},{"$f":"'Girls Reg'!$G$62","v":""},{"$f":"'Girls Reg'!H63","v":""},{"$f":"'Girls Reg'!I63","v":""},{"$f":"'Girls Reg'!J63","v":""},0,0]
[{"$f":"'Girls Reg'!G54","v":""},{"$f":"'Girls Reg'!$G$52","v":""},{"$f":"'Girls Reg'!H54","v":""},{"$f":"'Girls Reg'!I54","v":""},{"$f":"'Girls Reg'!J54","v":""},0,0]
[{"$f":"'Girls Reg'!G57","v":""},{"$f":"'Girls Reg'!$G$52","v":""},{"$f":"'Girls Reg'!H57","v":""},{"$f":"'Girls Reg'!I57","v":""},{"$f":"'Girls Reg'!J57","v":""},0,0]
[{"$f":"'Girls Reg'!B57","v":""},{"$f":"'Girls Reg'!$B$52","v":""},{"$f":"'Girls Reg'!C57","v":""},{"$f":"'Girls Reg'!D57","v":""},{"$f":"'Girls Reg'!E57","v":""},0,0]
[{"$f":"'Girls Reg'!G67","v":""},{"$f":"'Girls Reg'!$G$62","v":""},{"$f":"'Girls Reg'!H67","v":""},{"$f":"'Girls Reg'!I67","v":""},{"$f":"'Girls Reg'!J67","v":""},0,0]
[{"$f":"'Girls Reg'!B56","v":""},{"$f":"'Girls Reg'!$B$52","v":""},{"$f":"'Girls Reg'!C56","v":""},{"$f":"'Girls Reg'!D56","v":""},{"$f":"'Girls Reg'!E56","v":""},0,0]
[{"$f":"'Girls Reg'!B67","v":""},{"$f":"'Girls Reg'!$B$62","v":""},{"$f":"'Girls Reg'!C67","v":""},{"$f":"'Girls Reg'!D67","v":""},{"$f":"'Girls Reg'!E67","v":""},0,0]
[{"$f":"'Girls Reg'!B66","v":""},{"$f":"'Girls Reg'!$B$62","v":""},{"$f":"'Girls Reg'!C66","v":""},{"$f":"'Girls Reg'!D66","v":""},{"$f":"'Girls Reg'!E66","v":""},0,0]
[{"$f":"'Girls Reg'!B73","v":""},{"$f":"'Girls Reg'!$B$72","v":""},{"$f":"'Girls Reg'!C73","v":""},{"$f":"'Girls Reg'!D73","v":""},{"$f":"'Girls Reg'!E73","v":""},0,0]
[{"$f":"'Girls Reg'!G56","v":""},{"$f":"'Girls Reg'!$G$52","v":""},{"$f":"'Girls Reg'!H56","v":""},{"$f":"'Girls Reg'!I56","v":""},{"$f":"'Girls Reg'!J56","v":""},0,0]
[{"$f":"'Girls Reg'!G55","v":""},{"$f":"'Girls Reg'!$G$52","v":""},{"$f":"'Girls Reg'!H55","v":""},{"$f":"'Girls Reg'!I55","v":""},{"$f":"'Girls Reg'!J55","v":""},0,0]
[{"$f":"'Girls Reg'!B76","v":""},{"$f":"'Girls Reg'!$B$72","v":""},{"$f":"'Girls Reg'!C76","v":""},{"$f":"'Girls Reg'!D76","v":""},{"$f":"'Girls Reg'!E76","v":""},0,0]
[{"$f":"'Girls Reg'!B64","v":""},{"$f":"'Girls Reg'!$B$62","v":""},{"$f":"'Girls Reg'!C64","v":""},{"$f":"'Girls Reg'!D64","v":""},{"$f":"'Girls Reg'!E64","v":""},0,0]
[{"$f":"'Girls Reg'!B54","v":""},{"$f":"'Girls Reg'!$B$52","v":""},{"$f":"'Girls Reg'!C54","v":""},{"$f":"'Girls Reg'!D54","v":""},{"$f":"'Girls Reg'!E54","v":""},0,0]
[{"$f":"'Girls Reg'!B74","v":""},{"$f":"'Girls Reg'!$B$72","v":""},{"$f":"'Girls Reg'!C74","v":""},{"$f":"'Girls Reg'!D74","v":""},{"$f":"'Girls Reg'!E74","v":""},0,0]
[{"$f":"'Girls Reg'!G53","v":""},{"$f":"'Girls Reg'!$G$52","v":""},{"$f":"'Girls Reg'!H53","v":""},{"$f":"'Girls Reg'!I53","v":""},{"$f":"'Girls Reg'!J53","v":""},0,0]
[{"$f":"'Girls Reg'!B63","v":""},{"$f":"'Girls Reg'!$B$62","v":""},{"$f":"'Girls Reg'!C63","v":""},{"$f":"'Girls Reg'!D63","v":""},{"$f":"'Girls Reg'!E63","v":""},0,0]
[{"$f":"'Girls Reg'!G65","v":""},{"$f":"'Girls Reg'!$G$62","v":""},{"$f":"'Girls Reg'!H65","v":""},{"$f":"'Girls Reg'!I65","v":""},{"$f":"'Girls Reg'!J65","v":""},0,0]
[{"$f":"'Girls Reg'!B77","v":""},{"$f":"'Girls Reg'!$B$72","v":""},{"$f":"'Girls Reg'!C77","v":""},{"$f":"'Girls Reg'!D77","v":""},{"$f":"'Girls Reg'!E77","v":""},0,0]
[{"$f":"'Girls Reg'!B75","v":""},{"$f":"'Girls Reg'!$B$72","v":""},{"$f":"'Girls Reg'!C75","v":""},{"$f":"'Girls Reg'!D75","v":""},{"$f":"'Girls Reg'!E75","v":""},0,0]
[{"$f":"'Girls Reg'!B58","v":""},{"$f":"'Girls Reg'!$B$52","v":""},{"$f":"'Girls Reg'!C58","v":""},{"$f":"'Girls Reg'!D58","v":""},{"$f":"'Girls Reg'!E58","v":""},0,0]
[{"$f":"'Girls Reg'!B55","v":""},{"$f":"'Girls Reg'!$B$52","v":""},{"$f":"'Girls Reg'!C55","v":""},{"$f":"'Girls Reg'!D55","v":""},{"$f":"'Girls Reg'!E55","v":""},0,0]
[{"$f":"'Girls Reg'!B68","v":""},{"$f":"'Girls Reg'!$B$62","v":""},{"$f":"'Girls Reg'!C68","v":""},{"$f":"'Girls Reg'!D68","v":""},{"$f":"'Girls Reg'!E68","v":""},0,0]
[{"$f":"'Girls Reg'!B65","v":""},{"$f":"'Girls Reg'!$B$62","v":""},{"$f":"'Girls Reg'!C65","v":""},{"$f":"'Girls Reg'!D65","v":""},{"$f":"'Girls Reg'!E65","v":""},0,0]
[{"$f":"'Girls Reg'!G64","v":""},{"$f":"'Girls Reg'!$G$62","v":""},{"$f":"'Girls Reg'!H64","v":""},{"$f":"'Girls Reg'!I64","v":""},{"$f":"'Girls Reg'!J64","v":""},0,0]
[{"$f":"'Girls Reg'!B53","v":""},{"$f":"'Girls Reg'!$B$52","v":""},{"$f":"'Girls Reg'!C53","v":""},{"$f":"'Girls Reg'!D53","v":""},{"$f":"'Girls Reg'!E53","v":""},0,0]
[{"$f":"'Girls Reg'!B59","v":""},{"$f":"'Girls Reg'!$B$52","v":""},{"$f":"'Girls Reg'!C59","v":""},{"$f":"'Girls Reg'!D59","v":""},{"$f":"'Girls Reg'!E59","v":""},0,0]
[{"$f":"'Girls Reg'!B60","v":""},{"$f":"'Girls Reg'!$B$52","v":""},{"$f":"'Girls Reg'!C60","v":""},{"$f":"'Girls Reg'!D60","v":""},{"$f":"'Girls Reg'!E60","v":""},0,0]
[{"$f":"'Girls Reg'!G58","v":""},{"$f":"'Girls Reg'!$G$52","v":""},{"$f":"'Girls Reg'!H58","v":""},{"$f":"'Girls Reg'!I58","v":""},{"$f":"'Girls Reg'!J58","v":""},0,0]
[{"$f":"'Girls Reg'!G59","v":""},{"$f":"'Girls Reg'!$G$52","v":""},{"$f":"'Girls Reg'!H59","v":""},{"$f":"'Girls Reg'!I59","v":""},{"$f":"'Girls Reg'!J59","v":""},0,0]
[{"$f":"'Girls Reg'!G60","v":""},{"$f":"'Girls Reg'!$G$52","v":""},{"$f":"'Girls Reg'!H60","v":""},{"$f":"'Girls Reg'!I60","v":""},{"$f":"'Girls Reg'!J60","v":""},0,0]
[{"$f":"'Girls Reg'!B69","v":""},{"$f":"'Girls Reg'!$B$62","v":""},{"$f":"'Girls Reg'!C69","v":""},{"$f":"'Girls Reg'!D69","v":""},{"$f":"'Girls Reg'!E69","v":""},0,0]
[{"$f":"'Girls Reg'!B70","v":""},{"$f":"'Girls Reg'!$B$62","v":""},{"$f":"'Girls Reg'!C70","v":""},{"$f":"'Girls Reg'!D70","v":""},{"$f":"'Girls Reg'!E70","v":""},0,0]
[{"$f":"'Girls Reg'!G66","v":""},{"$f":"'Girls Reg'!$G$62","v":""},{"$f":"'Girls Reg'!H66","v":""},{"$f":"'Girls Reg'!I66","v":""},{"$f":"'Girls Reg'!J66","v":""},0,0]
[{"$f":"'Girls Reg'!G68","v":""},{"$f":"'Girls Reg'!$G$62","v":""},{"$f":"'Girls Reg'!H68","v":""},{"$f":"'Girls Reg'!I68","v":""},{"$f":"'Girls Reg'!J68","v":""},0,0]
[{"$f":"'Girls Reg'!G69","v":""},{"$f":"'Girls Reg'!$G$62","v":""},{"$f":"'Girls Reg'!H69","v":""},{"$f":"'Girls Reg'!I69","v":""},{"$f":"'Girls Reg'!J69","v":""},0,0]
[{"$f":"'Girls Reg'!G70","v":""},{"$f":"'Girls Reg'!$G$62","v":""},{"$f":"'Girls Reg'!H70","v":""},{"$f":"'Girls Reg'!I70","v":""},{"$f":"'Girls Reg'!J70","v":""},0,0]
[{"$f":"'Girls Reg'!B78","v":""},{"$f":"'Girls Reg'!$B$72","v":""},{"$f":"'Girls Reg'!C78","v":""},{"$f":"'Girls Reg'!D78","v":""},{"$f":"'Girls Reg'!E78","v":""},0,0]
[{"$f":"'Girls Reg'!B79","v":""},{"$f":"'Girls Reg'!$B$72","v":""},{"$f":"'Girls Reg'!C79","v":""},{"$f":"'Girls Reg'!D79","v":""},{"$f":"'Girls Reg'!E79","v":""},0,0]
[{"$f":"'Girls Reg'!B80","v":""},{"$f":"'Girls Reg'!$B$72","v":""},{"$f":"'Girls Reg'!C80","v":""},{"$f":"'Girls Reg'!D80","v":""},{"$f":"'Girls Reg'!E80","v":""},0,0]
[{"$f":"'Girls Reg'!G73","v":""},{"$f":"'Girls Reg'!$G$72","v":""},{"$f":"'Girls Reg'!H73","v":""},{"$f":"'Girls Reg'!I73","v":""},{"$f":"'Girls Reg'!J73","v":""},0,0]
[{"$f":"'Girls Reg'!G74","v":""},{"$f":"'Girls Reg'!$G$72","v":""},{"$f":"'Girls Reg'!H74","v":""},{"$f":"'Girls Reg'!I74","v":""},{"$f":"'Girls Reg'!J74","v":""},0,0]
[{"$f":"'Girls Reg'!G75","v":""},{"$f":"'Girls Reg'!$G$72","v":""},{"$f":"'Girls Reg'!H75","v":""},{"$f":"'Girls Reg'!I75","v":""},{"$f":"'Girls Reg'!J75","v":""},0,0]
[{"$f":"'Girls Reg'!G76","v":""},{"$f":"'Girls Reg'!$G$72","v":""},{"$f":"'Girls Reg'!H76","v":""},{"$f":"'Girls Reg'!I76","v":""},{"$f":"'Girls Reg'!J76","v":""},0,0]
[{"$f":"'Girls Reg'!G77","v":""},{"$f":"'Girls Reg'!$G$72","v":""},{"$f":"'Girls Reg'!H77","v":""},{"$f":"'Girls Reg'!I77","v":""},{"$f":"'Girls Reg'!J77","v":""},0,0]
[{"$f":"'Girls Reg'!G78","v":""},{"$f":"'Girls Reg'!$G$72","v":""},{"$f":"'Girls Reg'!H78","v":""},{"$f":"'Girls Reg'!I78","v":""},{"$f":"'Girls Reg'!J78","v":""},0,0]
[{"$f":"'Girls Reg'!G79","v":""},{"$f":"'Girls Reg'!$G$72","v":""},{"$f":"'Girls Reg'!H79","v":""},{"$f":"'Girls Reg'!I79","v":""},{"$f":"'Girls Reg'!J79","v":""},0,0]
[{"$f":"'Girls Reg'!G80","v":""},{"$f":"'Girls Reg'!$G$72","v":""},{"$f":"'Girls Reg'!H80","v":""},{"$f":"'Girls Reg'!I80","v":""},{"$f":"'Girls Reg'!J80","v":""},0,0]

{"sheet":"Girls Ind. High Series","index":6,"n_rows":129,"n_cols":7,"rows_kept":129,"cut":false,"hidden":false,"merged":[]}
["Name","School","Game 1","Game 2","Game 3","Series","High Game"]
[{"$f":"'Girls Reg'!B33","v":"Faith Smith"},{"$f":"'Girls Reg'!$B$32","v":"Matawan"},{"$f":"'Girls Reg'!C33","v":165},{"$f":"'Girls Reg'!D33","v":222},{"$f":"'Girls Reg'!E33","v":195},{"$f":"SUM(C2:E2)","v":582},{"$f":"MAX(C2:E2)","v":222}]
[{"$f":"'Girls Reg'!B16","v":"Caylei Hoffman"},{"$f":"'Girls Reg'!$B$12","v":"SJV"},{"$f":"'Girls Reg'!C16","v":186},{"$f":"'Girls Reg'!D16","v":168},{"$f":"'Girls Reg'!E16","v":222},576,222]
[{"$f":"'Girls Reg'!B37","v":"Laura McConnon"},{"$f":"'Girls Reg'!$B$32","v":"Matawan"},{"$f":"'Girls Reg'!C37","v":167},{"$f":"'Girls Reg'!D37","v":204},{"$f":"'Girls Reg'!E37","v":148},519,204]
[{"$f":"'Girls Reg'!B46","v":"Kimberly Kutschman"},{"$f":"'Girls Reg'!$B$42","v":"Keyport"},{"$f":"'Girls Reg'!C46","v":189},{"$f":"'Girls Reg'!D46","v":179},{"$f":"'Girls Reg'!E46","v":150},518,189]
[{"$f":"'Girls Reg'!B35","v":"Katie Devoe"},{"$f":"'Girls Reg'!$B$32","v":"Matawan"},{"$f":"'Girls Reg'!C35","v":178},{"$f":"'Girls Reg'!D35","v":155},{"$f":"'Girls Reg'!E35","v":174},507,178]
[{"$f":"'Girls Reg'!G17","v":"Casey Russomano"},{"$f":"'Girls Reg'!$G$12","v":"Ocean"},{"$f":"'Girls Reg'!H17","v":171},{"$f":"'Girls Reg'!I17","v":182},{"$f":"'Girls Reg'!J17","v":151},504,182]
[{"$f":"'Girls Reg'!B36","v":"Kiernan McShane"},{"$f":"'Girls Reg'!$B$32","v":"Matawan"},{"$f":"'Girls Reg'!C36","v":237},{"$f":"'Girls Reg'!D36","v":112},{"$f":"'Girls Reg'!E36","v":133},482,237]
[{"$f":"'Girls Reg'!B17","v":"Eliabeth Brogna"},{"$f":"'Girls Reg'!$B$12","v":"SJV"},{"$f":"'Girls Reg'!C17","v":168},{"$f":"'Girls Reg'!D17","v":156},{"$f":"'Girls Reg'!E17","v":155},479,168]
[{"$f":"'Girls Reg'!G36","v":"Victora Trigg"},{"$f":"'Girls Reg'!$G$32","v":"Middletown North"},{"$f":"'Girls Reg'!H36","v":149},{"$f":"'Girls Reg'!I36","v":177},{"$f":"'Girls Reg'!J36","v":139},465,177]
[{"$f":"'Girls Reg'!G33","v":"Ashley Guglielmo"},{"$f":"'Girls Reg'!$G$32","v":"Middletown North"},{"$f":"'Girls Reg'!H33","v":189},{"$f":"'Girls Reg'!I33","v":132},{"$f":"'Girls Reg'!J33","v":140},461,189]
[{"$f":"'Girls Reg'!G37","v":"Dakota Zadroga"},{"$f":"'Girls Reg'!$G$32","v":"Middletown North"},{"$f":"'Girls Reg'!H37","v":118},{"$f":"'Girls Reg'!I37","v":171},{"$f":"'Girls Reg'!J37","v":172},461,172]
[{"$f":"'Girls Reg'!B27","v":"Emily Frizell"},{"$f":"'Girls Reg'!$B$22","v":"Keansburg"},{"$f":"'Girls Reg'!C27","v":173},{"$f":"'Girls Reg'!D27","v":144},{"$f":"'Girls Reg'!E27","v":138},455,173]
[{"$f":"'Girls Reg'!B47","v":"Emma Grabowski"},{"$f":"'Girls Reg'!$B$42","v":"Keyport"},{"$f":"'Girls Reg'!C47","v":144},{"$f":"'Girls Reg'!D47","v":131},{"$f":"'Girls Reg'!E47","v":148},423,148]
[{"$f":"'Girls Reg'!B34","v":"Kaitlyn Knover"},{"$f":"'Girls Reg'!$B$32","v":"Matawan"},{"$f":"'Girls Reg'!C34","v":148},{"$f":"'Girls Reg'!D34","v":154},{"$f":"'Girls Reg'!E34","v":120},422,154]
[{"$f":"'Girls Reg'!G35","v":"Taylor Hanser"},{"$f":"'Girls Reg'!$G$32","v":"Middletown North"},{"$f":"'Girls Reg'!H35","v":136},{"$f":"'Girls Reg'!I35","v":154},{"$f":"'Girls Reg'!J35","v":118},408,154]
[{"$f":"'Girls Reg'!G7","v":"Luz Torres"},{"$f":"'Girls Reg'!$G$2","v":"Lakewood"},{"$f":"'Girls Reg'!H7","v":135},{"$f":"'Girls Reg'!I7","v":152},{"$f":"'Girls Reg'!J7","v":119},406,152]
[{"$f":"'Girls Reg'!B26","v":"Rebecca Kain"},{"$f":"'Girls Reg'!$B$22","v":"Keansburg"},{"$f":"'Girls Reg'!C26","v":134},{"$f":"'Girls Reg'!D26","v":144},{"$f":"'Girls Reg'!E26","v":126},404,144]
[{"$f":"'Girls Reg'!G16","v":"Chrissy Cundiff"},{"$f":"'Girls Reg'!$G$12","v":"Ocean"},{"$f":"'Girls Reg'!H16","v":107},{"$f":"'Girls Reg'!I16","v":119},{"$f":"'Girls Reg'!J16","v":172},398,172]
[{"$f":"'Girls Reg'!G13","v":"Nora Abdelaziz"},{"$f":"'Girls Reg'!$G$12","v":"Ocean"},{"$f":"'Girls Reg'!H13","v":131},{"$f":"'Girls Reg'!I13","v":138},{"$f":"'Girls Reg'!J13","v":126},395,138]
[{"$f":"'Girls Reg'!B44","v":"Madelyn Yale"},{"$f":"'Girls Reg'!$B$42","v":"Keyport"},{"$f":"'Girls Reg'!C44","v":127},{"$f":"'Girls Reg'!D44","v":148},{"$f":"'Girls Reg'!E44","v":118},393,148]
[{"$f":"'Girls Reg'!G34","v":"Brenna Trevett"},{"$f":"'Girls Reg'!$G$32","v":"Middletown North"},{"$f":"'Girls Reg'!H34","v":132},{"$f":"'Girls Reg'!I34","v":120},{"$f":"'Girls Reg'!J34","v":137},389,137]
[{"$f":"'Girls Reg'!G14","v":"Jazmia Ortiz"},{"$f":"'Girls Reg'!$G$12","v":"Ocean"},{"$f":"'Girls Reg'!H14","v":111},{"$f":"'Girls Reg'!I14","v":124},{"$f":"'Girls Reg'!J14","v":147},382,147]
[{"$f":"'Girls Reg'!B7","v":"Makayla Roberts"},{"$f":"'Girls Reg'!$B$2","v":"Henry Hudson"},{"$f":"'Girls Reg'!C7","v":124},{"$f":"'Girls Reg'!D7","v":129},{"$f":"'Girls Reg'!E7","v":127},380,129]
[{"$f":"'Girls Reg'!B43","v":"Madison Reynolds"},{"$f":"'Girls Reg'!$B$42","v":"Keyport"},{"$f":"'Girls Reg'!C43","v":147},{"$f":"'Girls Reg'!D43","v":121},{"$f":"'Girls Reg'!E43","v":110},378,147]
[{"$f":"'Girls Reg'!G45","v":"Eamy Moluna"},{"$f":"'Girls Reg'!$G$42","v":"Roselle"},{"$f":"'Girls Reg'!H45","v":123},{"$f":"'Girls Reg'!I45","v":126},{"$f":"'Girls Reg'!J45","v":123},372,126]
[{"$f":"'Girls Reg'!B15","v":"Mary McAvoy"},{"$f":"'Girls Reg'!$B$12","v":"SJV"},{"$f":"'Girls Reg'!C15","v":126},{"$f":"'Girls Reg'!D15","v":148},{"$f":"'Girls Reg'!E15","v":91},365,148]
[{"$f":"'Girls Reg'!B45","v":"Chelsea Geyer"},{"$f":"'Girls Reg'!$B$42","v":"Keyport"},{"$f":"'Girls Reg'!C45","v":114},{"$f":"'Girls Reg'!D45","v":128},{"$f":"'Girls Reg'!E45","v":116},358,128]
[{"$f":"'Girls Reg'!G26","v":"Brianne Peralta"},{"$f":"'Girls Reg'!$G$22","v":"Bayonne"},{"$f":"'Girls Reg'!H26","v":149},{"$f":"'Girls Reg'!I26","v":120},{"$f":"'Girls Reg'!J26","v":81},350,149]
[{"$f":"'Girls Reg'!G23","v":"Lecia Williams"},{"$f":"'Girls Reg'!$G$22","v":"Bayonne"},{"$f":"'Girls Reg'!H23","v":126},{"$f":"'Girls Reg'!I23","v":101},{"$f":"'Girls Reg'!J23","v":118},345,126]
[{"$f":"'Girls Reg'!B14","v":"Catherine O'Grady"},{"$f":"'Girls Reg'!$B$12","v":"SJV"},{"$f":"'Girls Reg'!C14","v":87},{"$f":"'Girls Reg'!D14","v":107},{"$f":"'Girls Reg'!E14","v":141},335,141]
[{"$f":"'Girls Reg'!B23","v":"Amy Cieslik"},{"$f":"'Girls Reg'!$B$22","v":"Keansburg"},{"$f":"'Girls Reg'!C23","v":114},{"$f":"'Girls Reg'!D23","v":104},{"$f":"'Girls Reg'!E23","v":112},330,114]
[{"$f":"'Girls Reg'!G3","v":"Yoselyn Montes"},{"$f":"'Girls Reg'!$G$2","v":"Lakewood"},{"$f":"'Girls Reg'!H3","v":95},{"$f":"'Girls Reg'!I3","v":130},{"$f":"'Girls Reg'!J3","v":105},330,130]
[{"$f":"'Girls Reg'!B13","v":"Maggie Irizarry"},{"$f":"'Girls Reg'!$B$12","v":"SJV"},{"$f":"'Girls Reg'!C13","v":94},{"$f":"'Girls Reg'!D13","v":139},{"$f":"'Girls Reg'!E13","v":96},329,139]
[{"$f":"'Girls Reg'!B4","v":"Orianna Nolan"},{"$f":"'Girls Reg'!$B$2","v":"Henry Hudson"},{"$f":"'Girls Reg'!C4","v":111},{"$f":"'Girls Reg'!D4","v":109},{"$f":"'Girls Reg'!E4","v":94},314,111]
[{"$f":"'Girls Reg'!G47","v":"Daniela Villacorta"},{"$f":"'Girls Reg'!$G$42","v":"Roselle"},{"$f":"'Girls Reg'!H47","v":92},{"$f":"'Girls Reg'!I47","v":116},{"$f":"'Girls Reg'!J47","v":102},310,116]
[{"$f":"'Girls Reg'!G27","v":"Victoria Cass"},{"$f":"'Girls Reg'!$G$22","v":"Bayonne"},{"$f":"'Girls Reg'!H27","v":95},{"$f":"'Girls Reg'!I27","v":102},{"$f":"'Girls Reg'!J27","v":113},310,113]
[{"$f":"'Girls Reg'!G44","v":"Alexis Staten"},{"$f":"'Girls Reg'!$G$42","v":"Roselle"},{"$f":"'Girls Reg'!H44","v":117},{"$f":"'Girls Reg'!I44","v":118},{"$f":"'Girls Reg'!J44","v":74},309,118]
[{"$f":"'Girls Reg'!G5","v":"Doreley Ruiz"},{"$f":"'Girls Reg'!$G$2","v":"Lakewood"},{"$f":"'Girls Reg'!H5","v":116},{"$f":"'Girls Reg'!I5","v":86},{"$f":"'Girls Reg'!J5","v":102},304,116]
[{"$f":"'Girls Reg'!G15","v":"Erin Golej"},{"$f":"'Girls Reg'!$G$12","v":"Ocean"},{"$f":"'Girls Reg'!H15","v":79},{"$f":"'Girls Reg'!I15","v":107},{"$f":"'Girls Reg'!J15","v":109},295,109]
[{"$f":"'Girls Reg'!G43","v":"Karla Torres"},{"$f":"'Girls Reg'!$G$42","v":"Roselle"},{"$f":"'Girls Reg'!H43","v":92},{"$f":"'Girls Reg'!I43","v":78},{"$f":"'Girls Reg'!J43","v":123},293,123]
[{"$f":"'Girls Reg'!B6","v":"Claire Dodge"},{"$f":"'Girls Reg'!$B$2","v":"Henry Hudson"},{"$f":"'Girls Reg'!C6","v":84},{"$f":"'Girls Reg'!D6","v":116},{"$f":"'Girls Reg'!E6","v":90},290,116]
[{"$f":"'Girls Reg'!B5","v":"Julia Rockafellow"},{"$f":"'Girls Reg'!$B$2","v":"Henry Hudson"},{"$f":"'Girls Reg'!C5","v":84},{"$f":"'Girls Reg'!D5","v":87},{"$f":"'Girls Reg'!E5","v":90},261,90]
[{"$f":"'Girls Reg'!B25","v":"Ariella Zambrano"},{"$f":"'Girls Reg'!$B$22","v":"Keansburg"},{"$f":"'Girls Reg'!C25","v":77},{"$f":"'Girls Reg'!D25","v":85},{"$f":"'Girls Reg'!E25","v":91},253,91]
[{"$f":"'Girls Reg'!G46","v":"Synai Murray"},{"$f":"'Girls Reg'!$G$42","v":"Roselle"},{"$f":"'Girls Reg'!H46","v":57},{"$f":"'Girls Reg'!I46","v":90},{"$f":"'Girls Reg'!J46","v":94},241,94]
[{"$f":"'Girls Reg'!B24","v":"Claire Brogan"},{"$f":"'Girls Reg'!$B$22","v":"Keansburg"},{"$f":"'Girls Reg'!C24","v":104},{"$f":"'Girls Reg'!D24","v":73},{"$f":"'Girls Reg'!E24","v":60},237,104]
[{"$f":"'Girls Reg'!B3","v":"Alina Souza"},{"$f":"'Girls Reg'!$B$2","v":"Henry Hudson"},{"$f":"'Girls Reg'!C3","v":92},{"$f":"'Girls Reg'!D3","v":64},{"$f":"'Girls Reg'!E3","v":74},230,92]
[{"$f":"'Girls Reg'!G24","v":"Jenimya Holley"},{"$f":"'Girls Reg'!$G$22","v":"Bayonne"},{"$f":"'Girls Reg'!H24","v":61},{"$f":"'Girls Reg'!I24","v":68},{"$f":"'Girls Reg'!J24","v":82},211,82]
[{"$f":"'Girls Reg'!G9","v":"Areli Valencia"},{"$f":"'Girls Reg'!$G$2","v":"Lakewood"},{"$f":"'Girls Reg'!H9","v":""},{"$f":"'Girls Reg'!I9","v":108},{"$f":"'Girls Reg'!J9","v":80},188,108]
[{"$f":"'Girls Reg'!G25","v":"Jenna Jozwiak"},{"$f":"'Girls Reg'!$G$22","v":"Bayonne"},{"$f":"'Girls Reg'!H25","v":65},{"$f":"'Girls Reg'!I25","v":53},{"$f":"'Girls Reg'!J25","v":58},176,65]
[{"$f":"'Girls Reg'!G4","v":"Amelia Martinez"},{"$f":"'Girls Reg'!$G$2","v":"Lakewood"},{"$f":"'Girls Reg'!H4","v":80},{"$f":"'Girls Reg'!I4","v":82},{"$f":"'Girls Reg'!J4","v":""},162,82]
[{"$f":"'Girls Reg'!G6","v":"Maria Huerta"},{"$f":"'Girls Reg'!$G$2","v":"Lakewood"},{"$f":"'Girls Reg'!H6","v":77},{"$f":"'Girls Reg'!I6","v":""},{"$f":"'Girls Reg'!J6","v":""},77,77]
[{"$f":"'Girls Reg'!G8","v":"Daniela Cualutle"},{"$f":"'Girls Reg'!$G$2","v":"Lakewood"},{"$f":"'Girls Reg'!H8","v":""},{"$f":"'Girls Reg'!I8","v":""},{"$f":"'Girls Reg'!J8","v":65},65,65]
[{"$f":"'Girls Reg'!G38","v":"Faith Coll"},{"$f":"'Girls Reg'!$G$32","v":"Middletown North"},{"$f":"'Girls Reg'!H38","v":""},{"$f":"'Girls Reg'!I38","v":""},{"$f":"'Girls Reg'!J38","v":""},0,0]
[{"$f":"'Girls Reg'!G29","v":""},{"$f":"'Girls Reg'!$G$22","v":"Bayonne"},{"$f":"'Girls Reg'!H29","v":""},{"$f":"'Girls Reg'!I29","v":""},{"$f":"'Girls Reg'!J29","v":""},0,0]
[{"$f":"'Girls Reg'!B38","v":""},{"$f":"'Girls Reg'!$B$32","v":"Matawan"},{"$f":"'Girls Reg'!C38","v":""},{"$f":"'Girls Reg'!D38","v":""},{"$f":"'Girls Reg'!E38","v":""},0,0]
[{"$f":"'Girls Reg'!B48","v":"Jessica Argentina"},{"$f":"'Girls Reg'!$B$42","v":"Keyport"},{"$f":"'Girls Reg'!C48","v":""},{"$f":"'Girls Reg'!D48","v":""},{"$f":"'Girls Reg'!E48","v":""},0,0]
[{"$f":"'Girls Reg'!B8","v":""},{"$f":"'Girls Reg'!$B$2","v":"Henry Hudson"},{"$f":"'Girls Reg'!C8","v":""},{"$f":"'Girls Reg'!D8","v":""},{"$f":"'Girls Reg'!E8","v":""},0,0]
[{"$f":"'Girls Reg'!G28","v":""},{"$f":"'Girls Reg'!$G$22","v":"Bayonne"},{"$f":"'Girls Reg'!H28","v":""},{"$f":"'Girls Reg'!I28","v":""},{"$f":"'Girls Reg'!J28","v":""},0,0]
[{"$f":"'Girls Reg'!G63","v":""},{"$f":"'Girls Reg'!$G$62","v":""},{"$f":"'Girls Reg'!H63","v":""},{"$f":"'Girls Reg'!I63","v":""},{"$f":"'Girls Reg'!J63","v":""},0,0]
[{"$f":"'Girls Reg'!G67","v":""},{"$f":"'Girls Reg'!$G$62","v":""},{"$f":"'Girls Reg'!H67","v":""},{"$f":"'Girls Reg'!I67","v":""},{"$f":"'Girls Reg'!J67","v":""},0,0]
[{"$f":"'Girls Reg'!G57","v":""},{"$f":"'Girls Reg'!$G$52","v":""},{"$f":"'Girls Reg'!H57","v":""},{"$f":"'Girls Reg'!I57","v":""},{"$f":"'Girls Reg'!J57","v":""},0,0]
[{"$f":"'Girls Reg'!B56","v":""},{"$f":"'Girls Reg'!$B$52","v":""},{"$f":"'Girls Reg'!C56","v":""},{"$f":"'Girls Reg'!D56","v":""},{"$f":"'Girls Reg'!E56","v":""},0,0]
[{"$f":"'Girls Reg'!B76","v":""},{"$f":"'Girls Reg'!$B$72","v":""},{"$f":"'Girls Reg'!C76","v":""},{"$f":"'Girls Reg'!D76","v":""},{"$f":"'Girls Reg'!E76","v":""},0,0]
[{"$f":"'Girls Reg'!G54","v":""},{"$f":"'Girls Reg'!$G$52","v":""},{"$f":"'Girls Reg'!H54","v":""},{"$f":"'Girls Reg'!I54","v":""},{"$f":"'Girls Reg'!J54","v":""},0,0]
[{"$f":"'Girls Reg'!B57","v":""},{"$f":"'Girls Reg'!$B$52","v":""},{"$f":"'Girls Reg'!C57","v":""},{"$f":"'Girls Reg'!D57","v":""},{"$f":"'Girls Reg'!E57","v":""},0,0]
[{"$f":"'Girls Reg'!B67","v":""},{"$f":"'Girls Reg'!$B$62","v":""},{"$f":"'Girls Reg'!C67","v":""},{"$f":"'Girls Reg'!D67","v":""},{"$f":"'Girls Reg'!E67","v":""},0,0]
[{"$f":"'Girls Reg'!B66","v":""},{"$f":"'Girls Reg'!$B$62","v":""},{"$f":"'Girls Reg'!C66","v":""},{"$f":"'Girls Reg'!D66","v":""},{"$f":"'Girls Reg'!E66","v":""},0,0]
[{"$f":"'Girls Reg'!G55","v":""},{"$f":"'Girls Reg'!$G$52","v":""},{"$f":"'Girls Reg'!H55","v":""},{"$f":"'Girls Reg'!I55","v":""},{"$f":"'Girls Reg'!J55","v":""},0,0]
[{"$f":"'Girls Reg'!G56","v":""},{"$f":"'Girls Reg'!$G$52","v":""},{"$f":"'Girls Reg'!H56","v":""},{"$f":"'Girls Reg'!I56","v":""},{"$f":"'Girls Reg'!J56","v":""},0,0]
[{"$f":"'Girls Reg'!B63","v":""},{"$f":"'Girls Reg'!$B$62","v":""},{"$f":"'Girls Reg'!C63","v":""},{"$f":"'Girls Reg'!D63","v":""},{"$f":"'Girls Reg'!E63","v":""},0,0]
[{"$f":"'Girls Reg'!B74","v":""},{"$f":"'Girls Reg'!$B$72","v":""},{"$f":"'Girls Reg'!C74","v":""},{"$f":"'Girls Reg'!D74","v":""},{"$f":"'Girls Reg'!E74","v":""},0,0]
[{"$f":"'Girls Reg'!B54","v":""},{"$f":"'Girls Reg'!$B$52","v":""},{"$f":"'Girls Reg'!C54","v":""},{"$f":"'Girls Reg'!D54","v":""},{"$f":"'Girls Reg'!E54","v":""},0,0]
[{"$f":"'Girls Reg'!G65","v":""},{"$f":"'Girls Reg'!$G$62","v":""},{"$f":"'Girls Reg'!H65","v":""},{"$f":"'Girls Reg'!I65","v":""},{"$f":"'Girls Reg'!J65","v":""},0,0]
[{"$f":"'Girls Reg'!G53","v":""},{"$f":"'Girls Reg'!$G$52","v":""},{"$f":"'Girls Reg'!H53","v":""},{"$f":"'Girls Reg'!I53","v":""},{"$f":"'Girls Reg'!J53","v":""},0,0]
[{"$f":"'Girls Reg'!B64","v":""},{"$f":"'Girls Reg'!$B$62","v":""},{"$f":"'Girls Reg'!C64","v":""},{"$f":"'Girls Reg'!D64","v":""},{"$f":"'Girls Reg'!E64","v":""},0,0]
[{"$f":"'Girls Reg'!B55","v":""},{"$f":"'Girls Reg'!$B$52","v":""},{"$f":"'Girls Reg'!C55","v":""},{"$f":"'Girls Reg'!D55","v":""},{"$f":"'Girls Reg'!E55","v":""},0,0]
[{"$f":"'Girls Reg'!B77","v":""},{"$f":"'Girls Reg'!$B$72","v":""},{"$f":"'Girls Reg'!C77","v":""},{"$f":"'Girls Reg'!D77","v":""},{"$f":"'Girls Reg'!E77","v":""},0,0]
[{"$f":"'Girls Reg'!B75","v":""},{"$f":"'Girls Reg'!$B$72","v":""},{"$f":"'Girls Reg'!C75","v":""},{"$f":"'Girls Reg'!D75","v":""},{"$f":"'Girls Reg'!E75","v":""},0,0]
[{"$f":"'Girls Reg'!B73","v":""},{"$f":"'Girls Reg'!$B$72","v":""},{"$f":"'Girls Reg'!C73","v":""},{"$f":"'Girls Reg'!D73","v":""},{"$f":"'Girls Reg'!E73","v":""},0,0]
[{"$f":"'Girls Reg'!G64","v":""},{"$f":"'Girls Reg'!$G$62","v":""},{"$f":"'Girls Reg'!H64","v":""},{"$f":"'Girls Reg'!I64","v":""},{"$f":"'Girls Reg'!J64","v":""},0,0]
[{"$f":"'Girls Reg'!B58","v":""},{"$f":"'Girls Reg'!$B$52","v":""},{"$f":"'Girls Reg'!C58","v":""},{"$f":"'Girls Reg'!D58","v":""},{"$f":"'Girls Reg'!E58","v":""},0,0]
[{"$f":"'Girls Reg'!B65","v":""},{"$f":"'Girls Reg'!$B$62","v":""},{"$f":"'Girls Reg'!C65","v":""},{"$f":"'Girls Reg'!D65","v":""},{"$f":"'Girls Reg'!E65","v":""},0,0]
[{"$f":"'Girls Reg'!B68","v":""},{"$f":"'Girls Reg'!$B$62","v":""},{"$f":"'Girls Reg'!C68","v":""},{"$f":"'Girls Reg'!D68","v":""},{"$f":"'Girls Reg'!E68","v":""},0,0]
[{"$f":"'Girls Reg'!B53","v":""},{"$f":"'Girls Reg'!$B$52","v":""},{"$f":"'Girls Reg'!C53","v":""},{"$f":"'Girls Reg'!D53","v":""},{"$f":"'Girls Reg'!E53","v":""},0,0]
[{"$f":"'Girls Reg'!B9","v":""},{"$f":"'Girls Reg'!$B$2","v":"Henry Hudson"},{"$f":"'Girls Reg'!C9","v":""},{"$f":"'Girls Reg'!D9","v":""},{"$f":"'Girls Reg'!E9","v":""},0,0]
[{"$f":"'Girls Reg'!B10","v":""},{"$f":"'Girls Reg'!$B$2","v":"Henry Hudson"},{"$f":"'Girls Reg'!C10","v":""},{"$f":"'Girls Reg'!D10","v":""},{"$f":"'Girls Reg'!E10","v":""},0,0]
[{"$f":"'Girls Reg'!G10","v":"Giselle Martinez"},{"$f":"'Girls Reg'!$G$2","v":"Lakewood"},{"$f":"'Girls Reg'!H10","v":""},{"$f":"'Girls Reg'!I10","v":""},{"$f":"'Girls Reg'!J10","v":""},0,0]
[{"$f":"'Girls Reg'!B18","v":""},{"$f":"'Girls Reg'!$B$12","v":"SJV"},{"$f":"'Girls Reg'!C18","v":""},{"$f":"'Girls Reg'!D18","v":""},{"$f":"'Girls Reg'!E18","v":""},0,0]
[{"$f":"'Girls Reg'!B19","v":""},{"$f":"'Girls Reg'!$B$12","v":"SJV"},{"$f":"'Girls Reg'!C19","v":""},{"$f":"'Girls Reg'!D19","v":""},{"$f":"'Girls Reg'!E19","v":""},0,0]
[{"$f":"'Girls Reg'!B20","v":""},{"$f":"'Girls Reg'!$B$12","v":"SJV"},{"$f":"'Girls Reg'!C20","v":""},{"$f":"'Girls Reg'!D20","v":""},{"$f":"'Girls Reg'!E20","v":""},0,0]
[{"$f":"'Girls Reg'!G18","v":"Zoe Konow"},{"$f":"'Girls Reg'!$G$12","v":"Ocean"},{"$f":"'Girls Reg'!H18","v":""},{"$f":"'Girls Reg'!I18","v":""},{"$f":"'Girls Reg'!J18","v":""},0,0]
[{"$f":"'Girls Reg'!G19","v":"McKenzie Rainford"},{"$f":"'Girls Reg'!$G$12","v":"Ocean"},{"$f":"'Girls Reg'!H19","v":""},{"$f":"'Girls Reg'!I19","v":""},{"$f":"'Girls Reg'!J19","v":""},0,0]
[{"$f":"'Girls Reg'!G20","v":""},{"$f":"'Girls Reg'!$G$12","v":"Ocean"},{"$f":"'Girls Reg'!H20","v":""},{"$f":"'Girls Reg'!I20","v":""},{"$f":"'Girls Reg'!J20","v":""},0,0]
[{"$f":"'Girls Reg'!B28","v":""},{"$f":"'Girls Reg'!$B$22","v":"Keansburg"},{"$f":"'Girls Reg'!C28","v":""},{"$f":"'Girls Reg'!D28","v":""},{"$f":"'Girls Reg'!E28","v":""},0,0]
[{"$f":"'Girls Reg'!B29","v":""},{"$f":"'Girls Reg'!$B$22","v":"Keansburg"},{"$f":"'Girls Reg'!C29","v":""},{"$f":"'Girls Reg'!D29","v":""},{"$f":"'Girls Reg'!E29","v":""},0,0]
[{"$f":"'Girls Reg'!B30","v":""},{"$f":"'Girls Reg'!$B$22","v":"Keansburg"},{"$f":"'Girls Reg'!C30","v":""},{"$f":"'Girls Reg'!D30","v":""},{"$f":"'Girls Reg'!E30","v":""},0,0]
[{"$f":"'Girls Reg'!G30","v":""},{"$f":"'Girls Reg'!$G$22","v":"Bayonne"},{"$f":"'Girls Reg'!H30","v":""},{"$f":"'Girls Reg'!I30","v":""},{"$f":"'Girls Reg'!J30","v":""},0,0]
[{"$f":"'Girls Reg'!B39","v":""},{"$f":"'Girls Reg'!$B$32","v":"Matawan"},{"$f":"'Girls Reg'!C39","v":""},{"$f":"'Girls Reg'!D39","v":""},{"$f":"'Girls Reg'!E39","v":""},0,0]
[{"$f":"'Girls Reg'!B40","v":""},{"$f":"'Girls Reg'!$B$32","v":"Matawan"},{"$f":"'Girls Reg'!C40","v":""},{"$f":"'Girls Reg'!D40","v":""},{"$f":"'Girls Reg'!E40","v":""},0,0]
[{"$f":"'Girls Reg'!G39","v":"Sara Welsh"},{"$f":"'Girls Reg'!$G$32","v":"Middletown North"},{"$f":"'Girls Reg'!H39","v":""},{"$f":"'Girls Reg'!I39","v":""},{"$f":"'Girls Reg'!J39","v":""},0,0]
[{"$f":"'Girls Reg'!G40","v":"Justice Buonsante"},{"$f":"'Girls Reg'!$G$32","v":"Middletown North"},{"$f":"'Girls Reg'!H40","v":""},{"$f":"'Girls Reg'!I40","v":""},{"$f":"'Girls Reg'!J40","v":""},0,0]
[{"$f":"'Girls Reg'!B49","v":""},{"$f":"'Girls Reg'!$B$42","v":"Keyport"},{"$f":"'Girls Reg'!C49","v":""},{"$f":"'Girls Reg'!D49","v":""},{"$f":"'Girls Reg'!E49","v":""},0,0]
[{"$f":"'Girls Reg'!B50","v":""},{"$f":"'Girls Reg'!$B$42","v":"Keyport"},{"$f":"'Girls Reg'!C50","v":""},{"$f":"'Girls Reg'!D50","v":""},{"$f":"'Girls Reg'!E50","v":""},0,0]
[{"$f":"'Girls Reg'!G48","v":""},{"$f":"'Girls Reg'!$G$42","v":"Roselle"},{"$f":"'Girls Reg'!H48","v":""},{"$f":"'Girls Reg'!I48","v":""},{"$f":"'Girls Reg'!J48","v":""},0,0]
[{"$f":"'Girls Reg'!G49","v":""},{"$f":"'Girls Reg'!$G$42","v":"Roselle"},{"$f":"'Girls Reg'!H49","v":""},{"$f":"'Girls Reg'!I49","v":""},{"$f":"'Girls Reg'!J49","v":""},0,0]
[{"$f":"'Girls Reg'!G50","v":""},{"$f":"'Girls Reg'!$G$42","v":"Roselle"},{"$f":"'Girls Reg'!H50","v":""},{"$f":"'Girls Reg'!I50","v":""},{"$f":"'Girls Reg'!J50","v":""},0,0]
[{"$f":"'Girls Reg'!B59","v":""},{"$f":"'Girls Reg'!$B$52","v":""},{"$f":"'Girls Reg'!C59","v":""},{"$f":"'Girls Reg'!D59","v":""},{"$f":"'Girls Reg'!E59","v":""},0,0]
[{"$f":"'Girls Reg'!B60","v":""},{"$f":"'Girls Reg'!$B$52","v":""},{"$f":"'Girls Reg'!C60","v":""},{"$f":"'Girls Reg'!D60","v":""},{"$f":"'Girls Reg'!E60","v":""},0,0]
[{"$f":"'Girls Reg'!G58","v":""},{"$f":"'Girls Reg'!$G$52","v":""},{"$f":"'Girls Reg'!H58","v":""},{"$f":"'Girls Reg'!I58","v":""},{"$f":"'Girls Reg'!J58","v":""},0,0]
[{"$f":"'Girls Reg'!G59","v":""},{"$f":"'Girls Reg'!$G$52","v":""},{"$f":"'Girls Reg'!H59","v":""},{"$f":"'Girls Reg'!I59","v":""},{"$f":"'Girls Reg'!J59","v":""},0,0]
[{"$f":"'Girls Reg'!G60","v":""},{"$f":"'Girls Reg'!$G$52","v":""},{"$f":"'Girls Reg'!H60","v":""},{"$f":"'Girls Reg'!I60","v":""},{"$f":"'Girls Reg'!J60","v":""},0,0]
[{"$f":"'Girls Reg'!B69","v":""},{"$f":"'Girls Reg'!$B$62","v":""},{"$f":"'Girls Reg'!C69","v":""},{"$f":"'Girls Reg'!D69","v":""},{"$f":"'Girls Reg'!E69","v":""},0,0]
[{"$f":"'Girls Reg'!B70","v":""},{"$f":"'Girls Reg'!$B$62","v":""},{"$f":"'Girls Reg'!C70","v":""},{"$f":"'Girls Reg'!D70","v":""},{"$f":"'Girls Reg'!E70","v":""},0,0]
[{"$f":"'Girls Reg'!G66","v":""},{"$f":"'Girls Reg'!$G$62","v":""},{"$f":"'Girls Reg'!H66","v":""},{"$f":"'Girls Reg'!I66","v":""},{"$f":"'Girls Reg'!J66","v":""},0,0]
[{"$f":"'Girls Reg'!G68","v":""},{"$f":"'Girls Reg'!$G$62","v":""},{"$f":"'Girls Reg'!H68","v":""},{"$f":"'Girls Reg'!I68","v":""},{"$f":"'Girls Reg'!J68","v":""},0,0]
[{"$f":"'Girls Reg'!G69","v":""},{"$f":"'Girls Reg'!$G$62","v":""},{"$f":"'Girls Reg'!H69","v":""},{"$f":"'Girls Reg'!I69","v":""},{"$f":"'Girls Reg'!J69","v":""},0,0]
[{"$f":"'Girls Reg'!G70","v":""},{"$f":"'Girls Reg'!$G$62","v":""},{"$f":"'Girls Reg'!H70","v":""},{"$f":"'Girls Reg'!I70","v":""},{"$f":"'Girls Reg'!J70","v":""},0,0]
[{"$f":"'Girls Reg'!B78","v":""},{"$f":"'Girls Reg'!$B$72","v":""},{"$f":"'Girls Reg'!C78","v":""},{"$f":"'Girls Reg'!D78","v":""},{"$f":"'Girls Reg'!E78","v":""},0,0]
[{"$f":"'Girls Reg'!B79","v":""},{"$f":"'Girls Reg'!$B$72","v":""},{"$f":"'Girls Reg'!C79","v":""},{"$f":"'Girls Reg'!D79","v":""},{"$f":"'Girls Reg'!E79","v":""},0,0]
[{"$f":"'Girls Reg'!B80","v":""},{"$f":"'Girls Reg'!$B$72","v":""},{"$f":"'Girls Reg'!C80","v":""},{"$f":"'Girls Reg'!D80","v":""},{"$f":"'Girls Reg'!E80","v":""},0,0]
[{"$f":"'Girls Reg'!G73","v":""},{"$f":"'Girls Reg'!$G$72","v":""},{"$f":"'Girls Reg'!H73","v":""},{"$f":"'Girls Reg'!I73","v":""},{"$f":"'Girls Reg'!J73","v":""},0,0]
[{"$f":"'Girls Reg'!G74","v":""},{"$f":"'Girls Reg'!$G$72","v":""},{"$f":"'Girls Reg'!H74","v":""},{"$f":"'Girls Reg'!I74","v":""},{"$f":"'Girls Reg'!J74","v":""},0,0]
[{"$f":"'Girls Reg'!G75","v":""},{"$f":"'Girls Reg'!$G$72","v":""},{"$f":"'Girls Reg'!H75","v":""},{"$f":"'Girls Reg'!I75","v":""},{"$f":"'Girls Reg'!J75","v":""},0,0]
[{"$f":"'Girls Reg'!G76","v":""},{"$f":"'Girls Reg'!$G$72","v":""},{"$f":"'Girls Reg'!H76","v":""},{"$f":"'Girls Reg'!I76","v":""},{"$f":"'Girls Reg'!J76","v":""},0,0]
[{"$f":"'Girls Reg'!G77","v":""},{"$f":"'Girls Reg'!$G$72","v":""},{"$f":"'Girls Reg'!H77","v":""},{"$f":"'Girls Reg'!I77","v":""},{"$f":"'Girls Reg'!J77","v":""},0,0]
[{"$f":"'Girls Reg'!G78","v":""},{"$f":"'Girls Reg'!$G$72","v":""},{"$f":"'Girls Reg'!H78","v":""},{"$f":"'Girls Reg'!I78","v":""},{"$f":"'Girls Reg'!J78","v":""},0,0]
[{"$f":"'Girls Reg'!G79","v":""},{"$f":"'Girls Reg'!$G$72","v":""},{"$f":"'Girls Reg'!H79","v":""},{"$f":"'Girls Reg'!I79","v":""},{"$f":"'Girls Reg'!J79","v":""},0,0]
[{"$f":"'Girls Reg'!G80","v":""},{"$f":"'Girls Reg'!$G$72","v":""},{"$f":"'Girls Reg'!H80","v":""},{"$f":"'Girls Reg'!I80","v":""},{"$f":"'Girls Reg'!J80","v":""},0,0]

{"sheet":"Girls Totals","index":7,"n_rows":17,"n_cols":7,"rows_kept":17,"cut":false,"hidden":false,"merged":[]}
["Place","School","Game 1","Game 2","Sub","Game 3","Total"]
[1.0,{"$f":"'Girls Reg'!$B$32","v":"Matawan"},{"$f":"'Girls Reg'!C41","v":895},{"$f":"'Girls Reg'!D41","v":847},{"$f":"SUM(C2:D2)","v":1742},{"$f":"'Girls Reg'!E41","v":770},{"$f":"SUM(E2:F2)","v":2512}]
[2.0,{"$f":"'Girls Reg'!$G$32","v":"Middletown North"},{"$f":"'Girls Reg'!H41","v":724},{"$f":"'Girls Reg'!I41","v":754},1478,{"$f":"'Girls Reg'!J41","v":706},2184]
[3.0,{"$f":"'Girls Reg'!$B$12","v":"SJV"},{"$f":"'Girls Reg'!C21","v":661},{"$f":"'Girls Reg'!D21","v":718},1379,{"$f":"'Girls Reg'!E21","v":705},2084]
[4.0,{"$f":"'Girls Reg'!$B$42","v":"Keyport"},{"$f":"'Girls Reg'!C51","v":721},{"$f":"'Girls Reg'!D51","v":707},1428,{"$f":"'Girls Reg'!E51","v":642},2070]
[5.0,{"$f":"'Girls Reg'!$G$12","v":"Ocean"},{"$f":"'Girls Reg'!H21","v":599},{"$f":"'Girls Reg'!I21","v":670},1269,{"$f":"'Girls Reg'!J21","v":705},1974]
[6.0,{"$f":"'Girls Reg'!$B$22","v":"Keansburg"},{"$f":"'Girls Reg'!C31","v":602},{"$f":"'Girls Reg'!D31","v":550},1152,{"$f":"'Girls Reg'!E31","v":527},1679]
[7.0,{"$f":"'Girls Reg'!$G$2","v":"Lakewood"},{"$f":"'Girls Reg'!H11","v":503},{"$f":"'Girls Reg'!I11","v":558},1061,{"$f":"'Girls Reg'!J11","v":471},1532]
[8.0,{"$f":"'Girls Reg'!$G$42","v":"Roselle"},{"$f":"'Girls Reg'!H51","v":481},{"$f":"'Girls Reg'!I51","v":528},1009,{"$f":"'Girls Reg'!J51","v":516},1525]
[9.0,{"$f":"'Girls Reg'!$B$2","v":"Henry Hudson"},{"$f":"'Girls Reg'!C11","v":495},{"$f":"'Girls Reg'!D11","v":505},1000,{"$f":"'Girls Reg'!E11","v":475},1475]
[10.0,{"$f":"'Girls Reg'!$G$22","v":"Bayonne"},{"$f":"'Girls Reg'!H31","v":496},{"$f":"'Girls Reg'!I31","v":444},940,{"$f":"'Girls Reg'!J31","v":452},1392]
[11.0,{"$f":"'Girls Reg'!$G$52","v":""},{"$f":"'Girls Reg'!H61","v":0},{"$f":"'Girls Reg'!I61","v":0},0,{"$f":"'Girls Reg'!J61","v":0},0]
[12.0,{"$f":"'Girls Reg'!$B$62","v":""},{"$f":"'Girls Reg'!C71","v":0},{"$f":"'Girls Reg'!D71","v":0},0,{"$f":"'Girls Reg'!E71","v":0},0]
[13.0,{"$f":"'Girls Reg'!$B$52","v":""},{"$f":"'Girls Reg'!C61","v":0},{"$f":"'Girls Reg'!D61","v":0},0,{"$f":"'Girls Reg'!E61","v":0},0]
[14.0,{"$f":"'Girls Reg'!$B$72","v":""},{"$f":"'Girls Reg'!C81","v":0},{"$f":"'Girls Reg'!D81","v":0},0,{"$f":"'Girls Reg'!$E$81","v":0},0]
[15.0,{"$f":"'Girls Reg'!$G$62","v":""},{"$f":"'Girls Reg'!H71","v":0},{"$f":"'Girls Reg'!I71","v":0},0,{"$f":"'Girls Reg'!J71","v":0},0]
[16.0,{"$f":"'Girls Reg'!$G$72","v":""},{"$f":"'Girls Reg'!H78","v":""},{"$f":"'Girls Reg'!I78","v":""},0,{"$f":"'Girls Reg'!J78","v":""},0]

{"sheet":"New Recap","index":8,"n_rows":28,"n_cols":9,"rows_kept":28,"cut":false,"hidden":false,"merged":[[0,0,0,2],[0,3,0,5],[0,6,0,8],[1,6,1,8],[2,6,2,8],[4,6,4,8],[6,6,6,8],[23,0,23,1],[23,3,23,4],[7,6,7,8],[8,6,8,8],[10,6,10,8],[12,0,12,2],[12,3,12,5],[22,0,22,2],[22,3,22,5]]}
["Boys Team Results",null,null,"Girls Team Results",null,null,"Boys Individual Awards"]
[null,"(3 Games)","Total",null,"(3 Games)","Total","(First Series)"]
[1.0,"Ocean",2651.0,1.0,"Matawan",2512.0,"High Game"]
[2.0,"Roselle",2531.0,2.0,"Middletown North",2184.0,"Elizjah Boone","Roselle",267.0]
[3.0,"Bayonne",2479.0,3.0,"SJV",2084.0,"High Series"]
[4.0,"SJV",2161.0,4.0,"Keyport",2070.0,"Elizjah Boone","Roselle",632.0]
[5.0,"Keansburg",2149.0,5.0,"Ocean",1974.0,"Girls Individual Awards"]
[6.0,"Henry Hudson",2148.0,6.0,"Keansburg",1679.0,"(First Series)"]
[7.0,"Matawan",2074.0,7.0,"Lakewood",1532.0,"High Game"]
[8.0,"Lakewood",1771.0,8.0,"Roselle",1525.0,"Kiernan McShane","Matawan",237.0]
[9.0,"Mater Dei",1701.0,9.0,"Henry Hudson",1475.0,"High Series"]
[10.0,"Keyport",1639.0,10.0,"Bayonne",1392.0,"Faith Smith","Matawan",582.0]
["Boys Individual Semi-Final",null,null,"Girls Individual Semi-Final"]
["Seed",null,"Semi Total","Seed",null,"Semi Total"]
[1.0,"Elizjah Boone",171.0,1.0,"Faith Smith",210.0]
[2.0,"Michael DeGilio",179.0,2.0,"Caylei Hoffman",153.0]
[3.0,"Robbie Hughes",158.0,3.0,"Laura McConnon",169.0]
[4.0,"Austin Torres",210.0,4.0,"Kimberly Kutschman",202.0]
[5.0,"Luis Torres",185.0,5.0,"Katie Devoe",175.0]
[6.0,"Matt Nilan",143.0,6.0,"Casey Russomano",157.0]
[7.0,"Aaron Reingold",192.0,7.0,"Kiernan McShane",180.0]
[8.0,"Jamarion Wright",143.0,8.0,"Eliabeth Brogna",184.0]
["Boys Individual Final",null,null,"Girls Individual Final"]
["Result",null,null,"Result"]
[1.0,"Aaron Reingold",226.0,1.0,"Faith Smith",187.0]
[2.0,"Luis Torres",225.0,2.0,"Elizabeth Brogna",169.0]
[3.0,"Michael DeGilio",168.0,3.0,"Kiernan McShane",166.0]
[4.0,"Austin Torres",139.0,4.0,"Kimberly Kutschman",148.0]

{"sheet":"Recap","index":9,"n_rows":20,"n_cols":9,"rows_kept":20,"cut":false,"hidden":false,"merged":[[8,3,9,5],[10,3,10,5],[12,3,12,5],[14,3,15,5],[16,3,16,5],[18,3,18,5],[0,0,0,2],[0,3,1,5],[0,6,0,8],[2,3,2,5],[3,3,4,5],[5,3,5,5],[6,3,7,5]]}
["Boys Team Results",null,null,"Final (Baker - Best of 3)",null,null,"Girls Team Results"]
[null,"(3 Games)","Total",{"$nulls":4},"(3 Games)","Total"]
[1.0,null,null,"Boys",null,null,1.0]
[2.0,null,null,"TOMS RIVER SOUTH def. Howell 2-1",null,null,2.0]
[3.0,{"$nulls":5},3.0]
[4.0,null,null,"Girls",null,null,4.0]
[5.0,null,null,"HOWELL def. Brick 2-1",null,null,5.0]
[6.0,{"$nulls":5},6.0]
[7.0,null,null,"Boys Individual Results",null,null,7.0]
[8.0,{"$nulls":5},8.0]
[9.0,null,null,"High Game",null,null,9.0]
[10.0,null,null,"Thomas McKeon","Keansburg",279.0,10.0]
[11.0,null,null,"High Series"]
[12.0,null,null,"Luis Torres","Abraham Clark (Roselle)",692.0]
[13.0,null,null,"Girls Individual Results"]
[]
[null,null,null,"High Game"]
[null,null,null,"Hannah Dalton","Toms River South",232.0]
[null,null,null,"High Series"]
[null,null,null,"Caylin Ryan","Brick",581.0]